BEGIN:VCALENDAR
VERSION:2.0
PRODID:-//ChamberMaster//Event Calendar 2.0//EN
METHOD:PUBLISH
X-PUBLISHED-TTL:P3D
REFRESH-INTERVAL:P3D
CALSCALE:GREGORIAN
BEGIN:VEVENT
DTSTART:20191112T211000Z
DTEND:20191112T223000Z
X-MICROSOFT-CDO-ALLDAYEVENT:FALSE
SUMMARY:Forest Health in Eastern National Parks: Current Trends and Future Concerns
DESCRIPTION:Ecologist Kate Miller discusses her work leading the National Park Service Inventory and Monitoring Program at the College of the Atlantic Human Ecology Forum.
X-ALT-DESC;FMTTYPE=text/html:Ecologist Kate Miller discusses her work leading the National Park Service Inventory and Monitoring Program at the College of the Atlantic Human Ecology Forum.
LOCATION:College of the Atlantic - McCormick Lecture Hall
UID:e.3061.15121
SEQUENCE:3
DTSTAMP:20260419T155811Z
URL:https://www.visitbarharbor.com/events/details/forest-health-in-eastern-national-parks-current-trends-and-future-concerns-15121
END:VEVENT

END:VCALENDAR
