BEGIN:VCALENDAR
VERSION:2.0
PRODID:-//ChamberMaster//Event Calendar 2.0//EN
METHOD:PUBLISH
X-PUBLISHED-TTL:P3D
REFRESH-INTERVAL:P3D
CALSCALE:GREGORIAN
BEGIN:VEVENT
DTSTART:20190913T230000Z
DTEND:20190914T000000Z
X-MICROSOFT-CDO-ALLDAYEVENT:FALSE
SUMMARY:Flashpacking through Thailand
DESCRIPTION:Diana and Gary Van Middlesworth spent six weeks traveling through Thailand with only a backpack and carry-on bag\, without hotel reservations and only using public transportation. Join them at the Jesup Memorial Library on Friday\, Sept. 13 at 7 p.m. as they talk about this type of traveling\, called flashpacking\, and their trip through Thailand. \n\n \n\nThe Van Middlesworths have traveled extensively with just a backpack bringing along only the essentials. They have been to almost every state in the US\, Jamaica\, the Bahamas\, Costa Rica\, Puerto Rico\, Panama\, Mexico\, France\, Spain\, Cambodia and Thailand. They do extensive research before each trip and then plan from there allowing for flexibility. Diana says they only bring clothing are practical and comfortable and research the customs in each country. In Thailand\, to visit temples you must wear pants that cover your knees and shirts that cover your elbows. Because of this\, they each brought two pairs of long pants\, two t-shirts and two three-quarter length sleeve shirts\, along with a few other pieces of clothing. They also make sure that the clothing can be used in different circumstances and can be dressed up and down. She brings along laundry soap in a small bottle so she can wash out the items each night. In addition to clothes\, they each only brought a small toiletry bag\, with all items under three ounces\, a cell phone\, which they used as a camera as well\, and a Kindle preloaded with books. If they needed something they did not have\, like a phone to call home\, they purchased it in Thailand. \n\n \n\nThey will have on hand Massaman curry for attendees to get a taste of some of the things they ate in Vietnam. They will also have a list of items they bring with them on their trip. \n\n \n\nFor more information on this talk\, contact the Jesup at 207-288-4245.
X-ALT-DESC;FMTTYPE=text/html:<span style="font-family:times new roman\,serif"><span style="font-size:14.0pt">Diana and Gary Van Middlesworth spent six weeks traveling through Thailand with only a backpack and carry-on bag\, without hotel reservations and only using public transportation. Join them at the Jesup Memorial Library on Friday\, Sept. 13 at 7 p.m. as they talk about this type of traveling\, called flashpacking\, and their trip through Thailand. </span></span><br />\n&nbsp\;<br />\n<span style="font-family:times new roman\,serif"><span style="font-size:14.0pt">The Van Middlesworths have traveled extensively with just a backpack bringing along only the essentials. They have been to almost every state in the US\, Jamaica\, the Bahamas\, Costa Rica\, Puerto Rico\, Panama\, Mexico\, France\, Spain\, Cambodia and Thailand. They do extensive research before each trip and then plan from there allowing for flexibility. Diana says they only bring clothing are practical and comfortable and research the customs in each country. In Thailand\, to visit temples you must wear pants that cover your knees and shirts that cover your elbows. Because of this\, they each brought two pairs of long pants\, two t-shirts and two three-quarter length sleeve shirts\, along with a few other pieces of clothing. They also make sure that the clothing can be used in different circumstances and can be dressed up and down. She brings along laundry soap in a small bottle so she can wash out the items each night. In addition to clothes\, they each only brought a small toiletry bag\, with all items under three ounces\, a cell phone\, which they used as a camera as well\, and a Kindle preloaded with books. If they needed something they did not have\, like a phone to call home\, they purchased it in Thailand. </span></span><br />\n&nbsp\;<br />\n<span style="font-family:times new roman\,serif"><span style="font-size:14.0pt">They will have on hand Massaman curry for attendees to get a taste of some of the things they ate in Vietnam. They will also have a list of items they bring with them on their trip. </span></span><br />\n&nbsp\;<br />\n<span style="font-family:times new roman\,serif"><span style="font-size:14.0pt">For more information on this talk\, contact the Jesup at 207-288-4245. </span></span><br />\n&nbsp\;
LOCATION:Jesup Memorial Library\, 34 Mt. Desert St.\, Bar Harbor\, ME 04069
UID:e.3061.14506
SEQUENCE:3
DTSTAMP:20260419T173029Z
URL:https://www.visitbarharbor.com/events/details/flashpacking-through-thailand-14506
END:VEVENT

END:VCALENDAR
