BEGIN:VCALENDAR
VERSION:2.0
PRODID:-//ChamberMaster//Event Calendar 2.0//EN
METHOD:PUBLISH
X-PUBLISHED-TTL:P3D
REFRESH-INTERVAL:P3D
CALSCALE:GREGORIAN
BEGIN:VEVENT
DTSTART:20190502T230000Z
DTEND:20190503T000000Z
X-MICROSOFT-CDO-ALLDAYEVENT:FALSE
SUMMARY:Fixing Past Mistakes and Creating a Healthier Future for the Great Meadow at Sieur de Monts
DESCRIPTION:The Great Meadow is a well-known spot in Acadia National Park\; it is also a wetland complex with changing rainfall patterns and past manipulations to the landscape have brought problems to the area. Join Brian Henkel\, the Wild Acadia Project Coordinator\, at the Jesup Memorial Library on Thursday\, May 2 at 7 p.m.\, as he shares what has been done to the Great Meadow in the past\, the consequences of those interventions\, and what plans are set for the future.\n\n \n\nThe Wild Acadia initiative is a partnership between Friends of Acadia and Acadia National Park that looks closely at how to improve the Great Meadow while recognizing that more change\, both through human intervention and through natural means\, is coming to the area. Henkel will touch on how the initiative decides when to resist these changes\, when to allow the changes to happen\, and when to direct changes. He will also talk about some of manipulations made to the Great Meadow's environment in the past and the consequences. Finally\, Henkel will ask audience members what they think should be done to the Great Meadow to protect it in the future. \n\n \n\nThe Wild Acadia initiative works collaboratively with stakeholders such as university faculty members and students\, local towns\, and conservation nonprofits to collect data\, assess conditions\, and coordinate efforts to improve ecological integrity\, increase resilience\, and maintain cultural authenticity. Henkel is a civil engineer and hydrologist who has worked in the fields of groundwater and surface water hydrology for more than 15 years. \n\n \n\nFor more information on this talk\, contact the Jesup at 207-288-4245 or mrice@jesuplibrary.org.
X-ALT-DESC;FMTTYPE=text/html:<span style="font-family:times new roman\,serif"><span style="font-size:14.0pt">The Great Meadow is a well-known spot in Acadia National Park\; it is also a wetland complex with changing rainfall patterns and past manipulations to the landscape have brought problems to the area. Join Brian Henkel\, the Wild Acadia Project Coordinator\, at the Jesup Memorial Library on Thursday\, May 2 at 7 p.m.\, as he shares what has been done to the Great Meadow in the past\, the consequences of those interventions\, and what plans are set for the future.</span></span><br />\n&nbsp\;<br />\n<span style="font-family:times new roman\,serif"><span style="font-size:14.0pt">The Wild Acadia initiative is a partnership between Friends of Acadia and Acadia National Park that looks closely at how to improve the Great Meadow while recognizing that more change\, both through human intervention and through natural means\, is coming to the area. Henkel will touch on how the initiative decides when to resist these changes\, when to allow the changes to happen\, and when to direct changes. He will also talk about some of manipulations made to the Great Meadow&rsquo\;s environment in the past and the consequences. Finally\, Henkel will ask audience members what they think should be done to the Great Meadow to protect it in the future. </span></span><br />\n&nbsp\;<br />\n<span style="font-family:times new roman\,serif"><span style="font-size:14.0pt">The Wild Acadia initiative works collaboratively with stakeholders such as university faculty members and students\, local towns\, and conservation nonprofits to collect data\, assess conditions\, and coordinate efforts to improve ecological integrity\, increase resilience\, and maintain cultural authenticity. Henkel is a civil engineer and hydrologist who has worked in the fields of groundwater and surface water hydrology for more than 15 years. </span></span><br />\n&nbsp\;<br />\n<span style="font-family:times new roman\,serif"><span style="font-size:14.0pt"><span>For more information on this talk\, contact the Jesup at <span class="gc-cs-link" id="gc-number-0" title="Call with Google Voice">207-288-4245</span> or </span><a href="mailto:mrice@jesuplibrary.org">mrice@jesuplibrary.org</a></span>.</span>
LOCATION:Jesup Memorial Library\, 34 Mt. Desert St.\, Bar Harbor\, ME 04609
UID:e.3061.8953
SEQUENCE:3
DTSTAMP:20260420T024327Z
URL:https://www.visitbarharbor.com/events/details/fixing-past-mistakes-and-creating-a-healthier-future-for-the-great-meadow-at-sieur-de-monts-8953
END:VEVENT

END:VCALENDAR
