BEGIN:VCALENDAR
VERSION:2.0
PRODID:-//ChamberMaster//Event Calendar 2.0//EN
METHOD:PUBLISH
X-PUBLISHED-TTL:P3D
REFRESH-INTERVAL:P3D
CALSCALE:GREGORIAN
BEGIN:VEVENT
DTSTART:20190209T190000Z
DTEND:20190209T203000Z
X-MICROSOFT-CDO-ALLDAYEVENT:FALSE
SUMMARY:Fisheries in the Gulf of Maine
DESCRIPTION:Dennis Damon\, a fourth-generation commercial fisherman and former Maine state senator\, will talk about what is happening off our shores today and what the future may hold. Damon was chair of the Legislature's Joint Standing Committee on Marine Resources and currently serves as Board Chair of the Maine Center for Coastal Fisheries in Stonington\, whose mission is to "secure a sustainable future for fishing and fishing communities in Eastern Maine and beyond." For more information\, please call the Library\, 244-7065.
X-ALT-DESC;FMTTYPE=text/html:Dennis Damon\, a fourth-generation commercial fisherman and former Maine state senator\, will talk about what is happening off our shores today and what the future may hold. Damon was chair of the Legislature&#39\;s Joint Standing Committee on Marine Resources and currently serves as Board Chair of the Maine Center for Coastal Fisheries in Stonington\, whose mission is to &quot\;secure a sustainable future for fishing and fishing communities in Eastern Maine and beyond.&quot\; For more information\, please call the Library\, 244-7065.
LOCATION:Southwest Harbor Public Library
UID:e.3061.4865
SEQUENCE:3
DTSTAMP:20260420T063033Z
URL:https://www.visitbarharbor.com/events/details/fisheries-in-the-gulf-of-maine-4865
END:VEVENT

END:VCALENDAR
