BEGIN:VCALENDAR
VERSION:2.0
PRODID:-//ChamberMaster//Event Calendar 2.0//EN
METHOD:PUBLISH
X-PUBLISHED-TTL:P3D
REFRESH-INTERVAL:P3D
CALSCALE:GREGORIAN
BEGIN:VEVENT
DTSTART:20180619T213000Z
DTEND:20180619T230000Z
X-MICROSOFT-CDO-ALLDAYEVENT:FALSE
SUMMARY:Fisheries in a Changing Climate
DESCRIPTION:Maine Center for Coastal Fisheries is pleased to bring Dr. Jon Hare\, the Science and Research Director for NOAA's Northeast Fisheries Science Center to Opera House Arts in Stonington. Hare will lead a talk\, titled Fisheries in a Changing Climate. The talk will address what changes we might see in Maine's fisheries as the Gulf of Maine's temperatures and currents change over time. The event is free to the public.
X-ALT-DESC;FMTTYPE=text/html:Maine Center for Coastal Fisheries is pleased to bring Dr. Jon Hare\, the Science and Research Director for NOAA&rsquo\;s Northeast Fisheries Science Center to Opera House Arts in Stonington. Hare will lead a talk\, titled <em>Fisheries in a Changing Climate</em>. The talk will address what changes we might see in Maine&rsquo\;s fisheries as the Gulf of Maine&rsquo\;s temperatures and currents change over time.&nbsp\;The event is free to the public.
LOCATION:Opera House Arts 1 Opera House Ln\, Stonington\, ME 04681
UID:e.3061.2572
SEQUENCE:3
DTSTAMP:20260420T195543Z
URL:https://www.visitbarharbor.com/events/details/fisheries-in-a-changing-climate-2572
END:VEVENT

END:VCALENDAR
