BEGIN:VCALENDAR
VERSION:2.0
PRODID:-//ChamberMaster//Event Calendar 2.0//EN
METHOD:PUBLISH
X-PUBLISHED-TTL:P3D
REFRESH-INTERVAL:P3D
CALSCALE:GREGORIAN
BEGIN:VEVENT
DTSTART:20191004T220000Z
DTEND:20191005T010000Z
X-MICROSOFT-CDO-ALLDAYEVENT:FALSE
SUMMARY:First Friday ART Walk…"An Autumn Stroll"
DESCRIPTION:"An Autumn Stroll" marks the final First Friday Art Walk of the season. Visitors and residents enjoy a colorful village as they meet creative and talented people hosting special events of fine art & craft or music at galleries\, shops and other venues on this self-guided tour. Pick up your walking map at the Chamber of Commerce visitor centers\, most lodging establishments\, all participating venues or download at www.artwalkbarharbor.com Follow the ART Walk flags
X-ALT-DESC;FMTTYPE=text/html:<span style="color:rgb(34\, 34\, 34)\; font-family:arial\,verdana\,sans-serif\; font-size:12px">&quot\;An Autumn Stroll&quot\; marks the final First Friday Art Walk of the season. Visitors and residents enjoy a colorful village as they meet creative and talented people hosting special events of fine art &amp\; craft or music at galleries\, shops and other venues on this self-guided tour. Pick up your walking map at the Chamber of Commerce visitor centers\, most lodging establishments\, all participating venues or download at www.artwalkbarharbor.com Follow the ART Walk flags</span>
LOCATION:Downtown Bar Harbor
UID:e.3061.8990
SEQUENCE:3
DTSTAMP:20260419T155433Z
URL:https://www.visitbarharbor.com/events/details/first-friday-art-walk-an-autumn-stroll-8990
END:VEVENT

END:VCALENDAR
