BEGIN:VCALENDAR
VERSION:2.0
PRODID:-//ChamberMaster//Event Calendar 2.0//EN
METHOD:PUBLISH
X-PUBLISHED-TTL:P3D
REFRESH-INTERVAL:P3D
CALSCALE:GREGORIAN
BEGIN:VEVENT
DTSTART:20181102T223000Z
DTEND:20181103T003000Z
X-MICROSOFT-CDO-ALLDAYEVENT:FALSE
SUMMARY:FIORE Fundraiser for the Jesup
DESCRIPTION:Join FIORE Artisan Olive Oils & Vinegars for their annual fundraiser for the Jesup Memorial Library on Friday\, Nov. 2 from 6:30 to 8:30 p.m. Stop by to get a jump start on your holiday gifts or to restock your pantry all while supporting the Jesup. There will be tasty treats made with Fiore's amazing olive oils and vinegars. It is guaranteed to be a fun and tasty evening. This event is free and open to the public and a portion of the proceeds from the evening support the Jesup. \n\n \n\nFor more information\, contact the Jesup Memorial Library at (207) 288-4245 or Fiore at (207) 801-2580.
X-ALT-DESC;FMTTYPE=text/html:<span style="font-family:times new roman\,serif"><span style="font-size:14.0pt">Join FIORE Artisan Olive Oils &amp\; Vinegars for their annual fundraiser for the Jesup Memorial Library on Friday\, Nov. 2 from 6:30 to 8:30 p.m. Stop by to get a jump start on your holiday gifts or to restock your pantry all while supporting the Jesup. There will be tasty treats made with Fiore&rsquo\;s amazing olive oils and vinegars. It is guaranteed to be a fun and tasty evening. This event is free and open to the public and a portion of the proceeds from the evening support the Jesup. </span></span><br />\n&nbsp\;<br />\n<span style="font-family:times new roman\,serif"><span style="font-size:14.0pt">For more information\, contact the Jesup Memorial Library at <span class="gc-cs-link" id="gc-number-0" title="Call with Google Voice">(207) 288-4245</span> or Fiore at (207) 801-2580.</span></span>
LOCATION:FIORE\, 8 Rodick Place\, Bar Harbor\, ME 04609
UID:e.3061.4233
SEQUENCE:3
DTSTAMP:20260420T131231Z
URL:https://www.visitbarharbor.com/events/details/fiore-fundraiser-for-the-jesup-4233
END:VEVENT

END:VCALENDAR
