BEGIN:VCALENDAR
VERSION:2.0
PRODID:-//ChamberMaster//Event Calendar 2.0//EN
METHOD:PUBLISH
X-PUBLISHED-TTL:P3D
REFRESH-INTERVAL:P3D
CALSCALE:GREGORIAN
BEGIN:VEVENT
DTSTART:20191121T230000Z
DTEND:20191122T010000Z
X-MICROSOFT-CDO-ALLDAYEVENT:FALSE
SUMMARY:Fiore Fundraiser for the Jesup
DESCRIPTION:Get a jump on your holiday shopping\, buy something to spice up your Thanksgiving dinner or restock your pantry during FIORE Artisan Olive Oils & Vinegars' annual fundraiser for the Jesup Memorial Library on Thursday\, Nov. 21 from 6 to 8 p.m. at FIORE\, 8 Rodick Place. \n\n \n\nDuring this tasty fundraiser\, attendees can sample FIORE's olive oils and balsamic vinegars as well as nosh on food made with their products. There will also be great drinks to try as well. \n\n \n\nThis event is free and open to the public and a portion of the proceeds from the evening go directly to the Jesup. \n\n \n\nFor more information\, contact the Jesup Memorial Library at (207) 288-4245 or Fiore at (207) 801-2580.
X-ALT-DESC;FMTTYPE=text/html:<span style="font-family:times new roman\,serif"><span style="font-size:14.0pt">Get a jump on your holiday shopping\, buy something to spice up your Thanksgiving dinner or restock your pantry during FIORE Artisan Olive Oils &amp\; Vinegars&rsquo\; annual fundraiser for the Jesup Memorial Library on Thursday\, Nov. 21 from 6 to 8 p.m. at FIORE\, 8 Rodick Place. </span></span><br />\n&nbsp\;<br />\n<span style="font-family:times new roman\,serif"><span style="font-size:14.0pt">During this tasty fundraiser\, attendees can sample FIORE&rsquo\;s olive oils and balsamic vinegars as well as nosh on food made with their products. There will also be great drinks to try as well. </span></span><br />\n&nbsp\;<br />\n<span style="font-family:times new roman\,serif"><span style="font-size:14.0pt">This event is free and open to the public and a portion of the proceeds from the evening go directly to the Jesup. </span></span><br />\n&nbsp\;<br />\n<span style="font-family:times new roman\,serif"><span style="font-size:14.0pt">For more information\, contact the Jesup Memorial Library at (207) 288-4245 or Fiore at (207) 801-2580.</span></span>
LOCATION:8 Rodick Place\, Bar Harbor\, ME 04609
UID:e.3061.16521
SEQUENCE:3
DTSTAMP:20260419T141930Z
URL:https://www.visitbarharbor.com/events/details/fiore-fundraiser-for-the-jesup-11-21-2019-16521
END:VEVENT

END:VCALENDAR
