BEGIN:VCALENDAR
VERSION:2.0
PRODID:-//ChamberMaster//Event Calendar 2.0//EN
METHOD:PUBLISH
X-PUBLISHED-TTL:P3D
REFRESH-INTERVAL:P3D
CALSCALE:GREGORIAN
BEGIN:VEVENT
DTSTART:20180601T220000Z
DTEND:20180602T010000Z
X-MICROSOFT-CDO-ALLDAYEVENT:FALSE
SUMMARY:Fine Arts Demonstrations with Maine Artists Marvin Jacobs and Ardys Arlin
DESCRIPTION:Join us for an entertaining evening of Fine Arts demonstration and stories with award winning Artists Marvin Jacobs and Ardys Arlin.\n\nMarvin is a 4th generation Maine Artist and a direct descendant of Ethan Allen.  His scenic paintings capture the true essence of New England life with grace.  Ardys\, a former Gallery owner and Marvin's partner renders exquisite botanical images taken from her love of her natural central Maine surroundings.  Marvin and Ardy's deep talents are matched only by their quick wit and generous personalities.\n\nWe invite you to enjoy our Gallery which is home to some of Maine's most accomplished artisans.\n\nThis event is presented as a part of first Friday Art Walk Bar Harbor.\n\n Wine\, Cheese & other refreshments will be served.
X-ALT-DESC;FMTTYPE=text/html:Join us for an entertaining evening of Fine Arts demonstration and stories&nbsp\;with award winning Artists Marvin Jacobs and Ardys Arlin.<br />\nMarvin is a 4th generation Maine Artist and a direct descendant of Ethan Allen.&nbsp\;&nbsp\;His scenic paintings capture the true essence of New England life with grace.&nbsp\; Ardys\, a former Gallery owner and Marvin&#39\;s partner renders exquisite botanical images taken from her love of her natural central Maine surroundings.&nbsp\; Marvin and Ardy&#39\;s deep talents are matched only by their quick wit and generous personalities.<br />\nWe invite you to enjoy our&nbsp\;Gallery which&nbsp\;is home to some of Maine&#39\;s most accomplished artisans.<br />\nThis event is presented as a part of first Friday Art Walk Bar Harbor.<br />\n&nbsp\;Wine\, Cheese &amp\; other refreshments will be served.
LOCATION:Bliss 150 Main Street\, Bar Harbor (on the Village Green)
UID:e.3061.2217
SEQUENCE:3
DTSTAMP:20260420T200216Z
URL:https://www.visitbarharbor.com/events/details/fine-artist-demonstrations-with-marvin-jacobs-and-ardys-arlin-2217
END:VEVENT

END:VCALENDAR
