BEGIN:VCALENDAR
VERSION:2.0
PRODID:-//ChamberMaster//Event Calendar 2.0//EN
METHOD:PUBLISH
X-PUBLISHED-TTL:P3D
REFRESH-INTERVAL:P3D
CALSCALE:GREGORIAN
BEGIN:VEVENT
DTSTART:20190116T230000Z
DTEND:20190117T003000Z
X-MICROSOFT-CDO-ALLDAYEVENT:FALSE
SUMMARY:Film: The Spirit of the Beehive
DESCRIPTION:Made in 1973\, this film is set in the Castillian countryside of Spain in 1939\, at the end of the Spanish Civil War and the onset of Franco's long fascist rule. "The Spirit of the Beehive" is often cited as a masterpiece in film history. Enigmatic and beautiful\, it is a bewitching portrayal of a child's inner life at the locus of innocence and evil. For more information please call the Library at 244-7065.
X-ALT-DESC;FMTTYPE=text/html:Made in 1973\, this film is set in the Castillian countryside of Spain in 1939\, at the end of the Spanish Civil War and the onset of Franco&#39\;s long fascist rule. &quot\;The Spirit of the Beehive&quot\; is often cited as a masterpiece in film history. Enigmatic and beautiful\, it is a bewitching portrayal of a child&#39\;s inner life at the locus of innocence and evil. For more information please call the Library at 244-7065.
LOCATION:Southwest Harbor Public Library
UID:e.3061.4835
SEQUENCE:3
DTSTAMP:20260420T082127Z
URL:https://www.visitbarharbor.com/events/details/film-the-spirit-of-the-beehive-4835
END:VEVENT

END:VCALENDAR
