BEGIN:VCALENDAR
VERSION:2.0
PRODID:-//ChamberMaster//Event Calendar 2.0//EN
METHOD:PUBLISH
X-PUBLISHED-TTL:P3D
REFRESH-INTERVAL:P3D
CALSCALE:GREGORIAN
BEGIN:VEVENT
DTSTART:20191022T201000Z
DTEND:20191022T213000Z
X-MICROSOFT-CDO-ALLDAYEVENT:FALSE
SUMMARY:Film Screening: “Tashi and the Monk”
DESCRIPTION:The leaders of Jhamste International join the College of the Atlantic Human Ecology Forum to screen and discuss the award-winning documentary "Tashi and the Monk\," which is about the Jhamtse Gatsal Children's Community in northeastern India on the borders of Bhutan and Tibet.
X-ALT-DESC;FMTTYPE=text/html:The leaders of Jhamste International join the College of the Atlantic Human Ecology Forum to screen and discuss the award-winning documentary &ldquo\;Tashi and the Monk\,&rdquo\; which is about the Jhamtse Gatsal Children&rsquo\;s Community in northeastern India on the borders of Bhutan and Tibet.
LOCATION:College of the Atlantic - McCormick Lecture Hall
UID:e.3061.15117
SEQUENCE:3
DTSTAMP:20260419T160002Z
URL:https://www.visitbarharbor.com/events/details/film-screening-tashi-and-the-monk-15117
END:VEVENT

END:VCALENDAR
