BEGIN:VCALENDAR
VERSION:2.0
PRODID:-//ChamberMaster//Event Calendar 2.0//EN
METHOD:PUBLISH
X-PUBLISHED-TTL:P3D
REFRESH-INTERVAL:P3D
CALSCALE:GREGORIAN
BEGIN:VEVENT
DTSTART:20191005T173000Z
DTEND:20191005T190000Z
X-MICROSOFT-CDO-ALLDAYEVENT:FALSE
SUMMARY:Film Screening: "Queer Genius"
DESCRIPTION:Director and producer Chet Catherine Pancake presents their newly released film "Queer Genius\," a cinematic exploration of five queer artists as they confront fame\, failure\, censorship\, family\, gender\, and sexuality.
X-ALT-DESC;FMTTYPE=text/html:Director and producer Chet Catherine Pancake presents their newly released film &ldquo\;Queer Genius\,&rdquo\; a cinematic exploration of five queer artists as they confront fame\, failure\, censorship\, family\, gender\, and sexuality.
LOCATION:Reel Pizza Cinerama
UID:e.3061.14803
SEQUENCE:3
DTSTAMP:20260419T155229Z
URL:https://www.visitbarharbor.com/events/details/film-screening-queer-genius-14803
END:VEVENT

END:VCALENDAR
