BEGIN:VCALENDAR
VERSION:2.0
PRODID:-//ChamberMaster//Event Calendar 2.0//EN
METHOD:PUBLISH
X-PUBLISHED-TTL:P3D
REFRESH-INTERVAL:P3D
CALSCALE:GREGORIAN
BEGIN:VEVENT
DTSTART:20181030T220000Z
DTEND:20181031T003000Z
X-MICROSOFT-CDO-ALLDAYEVENT:FALSE
SUMMARY:Film Screening: "Maineland"
DESCRIPTION:Filmed over three years in China and the U.S.\, MAINELAND is a multi-layered coming-of-age tale that follows two affluent and cosmopolitan teenagers as they settle into a boarding school in blue-collar rural Maine. Part of the enormous wave of "parachute students" from China enrolling in U.S. private schools\, bubbly\, fun-loving Stella and introspective Harry come seeking a Western-style education\, escape from the dreaded Chinese college entrance exam\, and the promise of a Hollywood-style U.S. high school experience. As Stella and Harry's fuzzy visions of the American dream slowly gain more clarity\, they ruminate on their experiences of alienation\, culture clash\, and personal identity\, sharing new understandings and poignant discourses on home and country.
X-ALT-DESC;FMTTYPE=text/html:Filmed over three years in China and the U.S.\, MAINELAND is a multi-layered coming-of-age tale that follows two affluent and cosmopolitan teenagers as they settle into a boarding school in blue-collar rural Maine. Part of the enormous wave of &ldquo\;parachute students&rdquo\; from China enrolling in U.S. private schools\, bubbly\, fun-loving Stella and introspective Harry come seeking a Western-style education\, escape from the dreaded Chinese college entrance exam\, and the promise of a Hollywood-style U.S. high school experience. As Stella and Harry&rsquo\;s fuzzy visions of the American dream slowly gain more clarity\, they ruminate on their experiences of alienation\, culture clash\, and personal identity\, sharing new understandings and poignant discourses on home and country.
LOCATION:College of the Atlantic Deering Commons
UID:e.3061.3943
SEQUENCE:3
DTSTAMP:20260420T131925Z
URL:https://www.visitbarharbor.com/events/details/film-screening-maineland-3943
END:VEVENT

END:VCALENDAR
