BEGIN:VCALENDAR
VERSION:2.0
PRODID:-//ChamberMaster//Event Calendar 2.0//EN
METHOD:PUBLISH
X-PUBLISHED-TTL:P3D
REFRESH-INTERVAL:P3D
CALSCALE:GREGORIAN
BEGIN:VEVENT
DTSTART:20190810T140000Z
DTEND:20190810T203000Z
X-MICROSOFT-CDO-ALLDAYEVENT:FALSE
SUMMARY:Figure Drawing Workshop: Seeing with Fresh Eyes
DESCRIPTION:Figure Drawing Workshop: Seeing with Fresh Eyes with Phillip Dvorak. $180. This figure studies course is a two-day course spanning Saturday\, August 10 to Sunday\, August 11.
X-ALT-DESC;FMTTYPE=text/html:Figure Drawing Workshop: Seeing with Fresh Eyes with Phillip Dvorak. $180. This figure studies course is a two-day course spanning Saturday\, August 10 to Sunday\, August 11.
LOCATION:ArtWaves\, 1345-A State Highway 102\, Bar Harbor.
UID:e.3061.14420
SEQUENCE:3
DTSTAMP:20260419T192146Z
URL:https://www.visitbarharbor.com/events/details/figure-drawing-workshop-seeing-with-fresh-eyes-14420
END:VEVENT

END:VCALENDAR
