BEGIN:VCALENDAR
VERSION:2.0
PRODID:-//ChamberMaster//Event Calendar 2.0//EN
METHOD:PUBLISH
X-PUBLISHED-TTL:P3D
REFRESH-INTERVAL:P3D
CALSCALE:GREGORIAN
BEGIN:VEVENT
DTSTART:20200816T130000Z
DTEND:20200816T200000Z
X-MICROSOFT-CDO-ALLDAYEVENT:FALSE
SUMMARY:Fido & Friends at Fort Knox
DESCRIPTION:Send Rover on Over for our two day event welcoming pets and owners to participate in various contests (best trick\, ugliest pet\, best in class\, best costume\, etc). Animal Rescues\, Veterinary Clinics\, Kennel Clubs and more convene to educate the community on happy\, healthy lifestyles for people and their pets. Leashes and clean-up-after required.\n\n\n\nCOVID19 public safety precautions such as group size limitations\, 6' foot social distancing\, cleaning protocols and wear of masks/face coverings is required as appropriate during this event. Event may be cancelled without prior notice.  Enjoy the last of the dog days of summer with free doggy bags\, treats\, pet gifts and contest prizes for you and your best friend!
X-ALT-DESC;FMTTYPE=text/html:Send Rover on Over for our two day event welcoming pets and owners to participate in various contests (best trick\, ugliest pet\, best in class\, best costume\, etc). Animal Rescues\, Veterinary Clinics\, Kennel Clubs and more convene to educate the community on happy\, healthy lifestyles for people and their pets. Leashes and clean-up-after required.<br />\n<br />\nCOVID19 public safety precautions such as group size limitations\, 6&rsquo\; foot social distancing\, cleaning protocols and wear of masks/face coverings is required as appropriate during this event. Event may be cancelled without prior notice.&nbsp\; Enjoy the last of the dog days of summer with free doggy bags\, treats\, pet gifts and contest prizes for you and your best friend!&nbsp\;
LOCATION:Fort Knox 740 Fort Knox Road Prospect ME 04981
UID:e.3061.31718
SEQUENCE:3
DTSTAMP:20260421T235017Z
URL:https://www.visitbarharbor.com/events/details/fido-friends-at-fort-knox-08-16-2020-31718
END:VEVENT

END:VCALENDAR
