BEGIN:VCALENDAR
VERSION:2.0
PRODID:-//ChamberMaster//Event Calendar 2.0//EN
METHOD:PUBLISH
X-PUBLISHED-TTL:P3D
REFRESH-INTERVAL:P3D
CALSCALE:GREGORIAN
BEGIN:VEVENT
DTSTART:20180804T133000Z
DTEND:20180804T163000Z
X-MICROSOFT-CDO-ALLDAYEVENT:FALSE
SUMMARY:Fiber Maché Basket with artist Jeanne Seronde Perkins
DESCRIPTION:Come and build freeform baskets out of a variety of colorful materials\, from yarns\, paper and metallic thread to strips of silk\, cotton and rayon using cornstarch glue to hold it all together.\n\nThe cost is $40 for Woodlawn members and $50 for non-members and includes all materials.  Space is limited and pre-registration is required.\n\nJeanne has been making art on Mount Desert Island for over thirty years.  She specializes in 2 & 3D collage\, as well as silk painting.  Her work is exhibited in Maine\, as well as other states in the U.S. and abroad and is in over 100 private collections.
X-ALT-DESC;FMTTYPE=text/html:<div>\n<p>Come and build freeform baskets out of a variety of colorful materials\, from yarns\, paper and metallic thread to strips of silk\, cotton and rayon using cornstarch glue to hold it all together.</p>\n\n<p>The cost is $40 for Woodlawn members and $50 for non-members and includes all materials. &nbsp\;Space is limited and <a href="https://woodlawnmuseum.com/event/fiber-mache-basket-artist-jeanne-seronde-perkins/">pre-registration is required.</a></p>\n\n<p><a href="http://jeanneserondeperkins.com">Jeanne</a> has been making art on Mount Desert Island for over thirty years.&nbsp\;&nbsp\;She specializes in 2 &amp\; 3D collage\, as well as silk painting. &nbsp\;Her work is exhibited in Maine\, as well as other states in the U.S. and abroad and is in over 100 private collections.</p>\n</div>\n
LOCATION:Woodlawn Museum\, 19 Black House Drive\, Ellsworth\, ME 04605.
UID:e.3061.2505
SEQUENCE:3
DTSTAMP:20260420T170556Z
URL:https://www.visitbarharbor.com/events/details/fiber-mach&#233;-basket-with-artist-jeanne-seronde-perkins-2505
END:VEVENT

END:VCALENDAR
