BEGIN:VCALENDAR
VERSION:2.0
PRODID:-//ChamberMaster//Event Calendar 2.0//EN
METHOD:PUBLISH
X-PUBLISHED-TTL:P3D
REFRESH-INTERVAL:P3D
CALSCALE:GREGORIAN
BEGIN:VEVENT
DTSTART:20190106T210000Z
DTEND:20190106T210000Z
X-MICROSOFT-CDO-ALLDAYEVENT:FALSE
SUMMARY:Festival of Twelfth Night Lessons and Carols
DESCRIPTION:Join us for a Twelfth Night Festival of Lessons and Carols\n\nSunday\, January 6 at 4 pm. Everyone  is welcome!\n\nSt. Saviour's Church\, 41 Mt. Desert Street\, Bar Harbor\n\nHandicap Accessible
X-ALT-DESC;FMTTYPE=text/html:<div style="text-align: center\;"><strong>Join us for a Twelfth Night Festival of Lessons and Carols</strong><br />\n<strong>Sunday\, January 6 at 4 pm. Everyone&nbsp\; is welcome!</strong><br />\n<strong>St. Saviour&rsquo\;s Church\, 41 Mt. Desert Street\, Bar Harbor</strong><br />\n<strong>Handicap Accessible</strong><br />\n&nbsp\;</div>\n\n<div style="text-align: center\;">&nbsp\;</div>\n
LOCATION:St. Saviour's Church\, 41 Mt. Desert Street\, Bar Harbor
UID:e.3061.4833
SEQUENCE:3
DTSTAMP:20260420T114529Z
URL:https://www.visitbarharbor.com/events/details/festival-of-twelfth-night-lessons-and-carols-4833
END:VEVENT

END:VCALENDAR
