BEGIN:VCALENDAR
VERSION:2.0
PRODID:-//ChamberMaster//Event Calendar 2.0//EN
METHOD:PUBLISH
X-PUBLISHED-TTL:P3D
REFRESH-INTERVAL:P3D
CALSCALE:GREGORIAN
BEGIN:VEVENT
DTSTART:20191008T150000Z
DTEND:20191008T160000Z
X-MICROSOFT-CDO-ALLDAYEVENT:FALSE
SUMMARY:Felted Rocks and Geodes
DESCRIPTION:An easy way to step into the world of wet felting\; taking raw sheep's wool and our glorious array of dyed fleece\, layering it to create lovely soft rocks . Depending on weather we may meet outside.\n\nThe moment when we slice them and discover  what you have designed - often naturally impossible\,  yet lovely creations. Fun for all ages\, family friendly\, all materials included\, distanced \, masked and vaxed when applicable. \n\n$20  ($10 for ArtWaves members)\n\nThis can also be a private workshop for family and friends to connect and create at a time that works for you\, contact\n\noffice@artwavesmdi.org\n\nLiz Cutler\, instructor \n\n\n\n\nhttps://artwavesmdi.org/event-4517354
X-ALT-DESC;FMTTYPE=text/html:<p>An easy way to step into the world of wet felting\; taking raw sheep&#39\;s wool and our glorious array of dyed fleece\, layering it to create lovely soft rocks . Depending on weather we may meet outside.</p>\n\n<p>The moment when we slice them and discover&nbsp\; what you have designed - often naturally impossible\,&nbsp\;&nbsp\;yet lovely creations. Fun for all ages\, family friendly\, all materials included\, distanced \, masked and vaxed when applicable.&nbsp\;<br />\n$20&nbsp\; ($10 for ArtWaves members)<br />\n<em>This can also be a private workshop for family and friends to connect and create at a time that works for you\, contact<br />\noffice@artwavesmdi.org</em></p>\n\n<p>Liz Cutler\, instructor&nbsp\;</p>\n<br />\n<br />\n<a href="https://artwavesmdi.org/event-4517354" id="eventDetailsMain_viewUrl_viewUrl" style="box-sizing: border-box\; color: rgb(0\, 156\, 189)\; cursor: pointer\; border-bottom: none\; text-decoration-line: none\; background-color: transparent\;" target="_blank">https://artwavesmdi.org/event-4517354</a>&nbsp\;
LOCATION:ArtWaves\, 1345-A State Highway 102\, Bar Harbor.
UID:e.3061.15234
SEQUENCE:3
DTSTAMP:20260423T155401Z
URL:https://www.visitbarharbor.com/events/details/felted-rocks-and-geodes-15234
END:VEVENT

END:VCALENDAR
