BEGIN:VCALENDAR
VERSION:2.0
PRODID:-//ChamberMaster//Event Calendar 2.0//EN
METHOD:PUBLISH
X-PUBLISHED-TTL:P3D
REFRESH-INTERVAL:P3D
CALSCALE:GREGORIAN
BEGIN:VEVENT
DTSTART:20181102T220000Z
DTEND:20181103T003000Z
X-MICROSOFT-CDO-ALLDAYEVENT:FALSE
SUMMARY:Felted Hanging Pods - Create & Sip
DESCRIPTION:Join us for an evening creating colorful\, woolen pods to use as planters and mini baskets. In this workshop students will choose from piles of wool roving and natural\, unprocessed wool to create their vessel. We will be combining wet and dry felting techniques using our extensive array of raw sheep's wool\, dyed fleece\, frayed silk saris\, feathers\, felted sweater scraps\, wire\, shimmery slivers of metallic fabric and beads. \n\nWe supply it all - no experience necessary!  You will learn a wet felting technique using soapy water and agitation. Once constructed\, beaded and feathery details may be added to elaborate with. This is a great workshop designed to create fun and functional art. \n\nAll materials\, instruction\, as well as wine and tea will be provided \n\nHere's where you leave saying you felt great!
X-ALT-DESC;FMTTYPE=text/html:<div>\n<div><span style="background-color:rgb(254\, 253\, 253)\; color:rgb(46\, 46\, 46)\; font-family:open sans\; font-size:12.6px">Join us for an evening creating colorful\, woolen pods to use as planters and mini baskets. In this workshop students will choose from piles of wool roving and natural\, unprocessed wool to create their vessel.&nbsp\;</span>We will be combining wet and dry felting techniques using our extensive array of raw sheep&rsquo\;s wool\, dyed fleece\, frayed silk saris\, feathers\, felted sweater scraps\, wire\, shimmery slivers of metallic fabric and beads.&nbsp\;</div>\n\n<div>We supply it all - no experience necessary!&nbsp\;<span style="background-color:rgb(254\, 253\, 253)\; color:rgb(46\, 46\, 46)\; font-family:open sans\; font-size:12.6px">&nbsp\;You will learn a wet felting technique using soapy water and agitation. Once constructed\, beaded and feathery details may be added to elaborate with. This is a great workshop designed to create fun and functional art.&nbsp\;</span><br />\n<span style="background-color:rgb(254\, 253\, 253)\; color:rgb(46\, 46\, 46)\; font-family:open sans\; font-size:12.6px">All materials\, instruction\, as well as wine and tea will be provided&nbsp\;</span><br />\nHere&rsquo\;s where you leave saying you felt great!</div>\n</div>\n
LOCATION:ArtWaves 1345 State highway 102 next to Town Hill Market? Bar Harbor
UID:e.3061.4286
SEQUENCE:3
DTSTAMP:20260420T112920Z
URL:https://www.visitbarharbor.com/events/details/felted-hanging-pods-create-sip-4286
END:VEVENT

END:VCALENDAR
