BEGIN:VCALENDAR
VERSION:2.0
PRODID:-//ChamberMaster//Event Calendar 2.0//EN
METHOD:PUBLISH
X-PUBLISHED-TTL:P3D
REFRESH-INTERVAL:P3D
CALSCALE:GREGORIAN
BEGIN:VEVENT
DTSTART:20180904T133000Z
DTEND:20180904T160000Z
X-MICROSOFT-CDO-ALLDAYEVENT:FALSE
SUMMARY:Painting with Needles
DESCRIPTION:Painting with Needles\n\n\nHere's where you leave saying you felt great!\n\nWe will be combining wet and dry felting techniques using our extensive array of raw sheep's wool\, dyed fleece\, frayed silk saris\, feathers\, felted sweater scraps\, wire\, shimmery slivers of metallic fabric and beads. All ages\, though under 9 needs an adult partner.\n\n.Instructor: Jessica Harris\n\nGreat for All ages\, though under 9 needs an adult partner. $30 (members get a $10 discount)
X-ALT-DESC;FMTTYPE=text/html:<div>\n<div>Painting with Needles</div>\n\n<div>\n<div>Here&rsquo\;s where you leave saying you felt great!<br />\nWe will be combining wet and dry felting techniques using our extensive array of raw sheep&rsquo\;s wool\, dyed fleece\, frayed silk saris\, feathers\, felted sweater scraps\, wire\, shimmery slivers of metallic fabric and beads. All ages\, though under 9 needs an adult partner.</div>\n</div>\n.Instructor: Jessica Harris</div>\n\n<p>Great for All ages\, though under 9 needs an adult partner. $30 (members get a $10 discount)</p>\n
LOCATION:ArtWaves 1345 State Highway 102 next to Town Hill Market Bar Harbor\, ME 04609
UID:e.3061.2169
SEQUENCE:3
DTSTAMP:20260420T145918Z
URL:https://www.visitbarharbor.com/events/details/felted-embellished-vessels-2169
END:VEVENT

END:VCALENDAR
