BEGIN:VCALENDAR
VERSION:2.0
PRODID:-//ChamberMaster//Event Calendar 2.0//EN
METHOD:PUBLISH
X-PUBLISHED-TTL:P3D
REFRESH-INTERVAL:P3D
CALSCALE:GREGORIAN
BEGIN:VEVENT
DTSTART:20190801T133000Z
DTEND:20190801T153000Z
X-MICROSOFT-CDO-ALLDAYEVENT:FALSE
SUMMARY:Felted Embellished Vessels
DESCRIPTION:Combine wet and dry felting techniques\, using raw sheep's wool\, dyed fleece and frayed silk saris. Next\, arrange feathers\, felted sweater scraps\, wire\, shimmery slivers of metallic fabric\, shells\, or beads as you like. No art experience necessary and all ages welcome. Under 8 needs a double digit partner. Here's where you leave saying you felt great\, and with a stunning piece of functional art\, and the knowledge that you can do this at home!
X-ALT-DESC;FMTTYPE=text/html:Combine wet and dry felting techniques\, using raw sheep&#39\;s wool\, dyed fleece and frayed silk saris. Next\, arrange feathers\, felted sweater scraps\, wire\, shimmery slivers of metallic fabric\, shells\, or beads as you like. No art experience necessary and all ages welcome. Under 8 needs a double digit partner. Here&#39\;s where you leave saying you felt great\, and with a stunning piece of functional art\, and the knowledge that you can do this at home!
LOCATION:ArtWaves 1345 State Highway 102\, Bar Harbor\, ME\, USA
UID:e.3061.14326
SEQUENCE:3
DTSTAMP:20260419T192419Z
URL:https://www.visitbarharbor.com/events/details/felted-embellished-vessels-08-01-2019-14326
END:VEVENT

END:VCALENDAR
