BEGIN:VCALENDAR
VERSION:2.0
PRODID:-//ChamberMaster//Event Calendar 2.0//EN
METHOD:PUBLISH
X-PUBLISHED-TTL:P3D
REFRESH-INTERVAL:P3D
CALSCALE:GREGORIAN
BEGIN:VEVENT
DTSTART:20190820T140000Z
DTEND:20190820T160000Z
X-MICROSOFT-CDO-ALLDAYEVENT:FALSE
SUMMARY:Felted Dragons
DESCRIPTION:With Liz Cutler.  Learn to needle felt a dragon or other creative creature.  Ages 6 and up accompanied by an adult.
X-ALT-DESC;FMTTYPE=text/html:With Liz Cutler.&nbsp\; Learn to needle felt a dragon or other creative creature.&nbsp\; Ages 6 and up accompanied by an adult.&nbsp\;&nbsp\;
LOCATION:ArtWaves\, 1345-A State Highway 102\, Bar Harbor.
UID:e.3061.14489
SEQUENCE:3
DTSTAMP:20260422T193047Z
URL:https://www.visitbarharbor.com/events/details/felted-dragons-14489
END:VEVENT

END:VCALENDAR
