BEGIN:VCALENDAR
VERSION:2.0
PRODID:-//ChamberMaster//Event Calendar 2.0//EN
METHOD:PUBLISH
X-PUBLISHED-TTL:P3D
REFRESH-INTERVAL:P3D
CALSCALE:GREGORIAN
BEGIN:VEVENT
DTSTART:20190223T000000Z
DTEND:20190223T020000Z
X-MICROSOFT-CDO-ALLDAYEVENT:FALSE
SUMMARY:'Farmer of the Year' Award-winning feature film by New England filmmakers
DESCRIPTION:'Farmer of the Year' the award-winning\, limited release\, independent feature film\, by New England Filmmakers is coming to Bar Harbor's 1932 Criterion Theatre for a 3 run engagement! An aging farmer goes on a road trip with his unreasonably self-confident granddaughter and they learn from each other. film synopsis: When Hap Anderson\, a widowed 83-year-old Minnesota farmer that thinks he's still quite the ladies' man\, sells his family farm\, he finds himself adrift and staring a short future in the face. Driven by the possibility of showing up with an old flame and impressing his old army buddies\, he sets out to attend his 65th WWII reunion in California with his directionless and unreasonably self-confident granddaughter\, Ashley. Each with their own issues and agendas\, they head west in a dilapidated Winnebago. Encountering oddball tourist attractions and eccentric characters\, they find themselves in seemingly impossible situations with only each other for support. As the journey progresses so does their relationship and they begin to understand and appreciate each other as individuals while discovering that being young and being old\, aren't all that different. More info\, schedule and to watch the trailer: https://www.criteriontheatre.org/test/2019/2/22/farmer-of-the-year-ylwf7
X-ALT-DESC;FMTTYPE=text/html:&#39\;Farmer of the Year&#39\; the award-winning\, limited release\, independent feature film\, by New England Filmmakers is coming to Bar Harbor&#39\;s 1932 Criterion Theatre for a 3 run engagement! An aging farmer goes on a road trip with his unreasonably self-confident granddaughter and they learn from each other. film synopsis: When Hap Anderson\, a widowed 83-year-old Minnesota farmer that thinks he&#39\;s still quite the ladies&#39\; man\, sells his family farm\, he finds himself adrift and staring a short future in the face. Driven by the possibility of showing up with an old flame and impressing his old army buddies\, he sets out to attend his 65th WWII reunion in California with his directionless and unreasonably self-confident granddaughter\, Ashley. Each with their own issues and agendas\, they head west in a dilapidated Winnebago. Encountering oddball tourist attractions and eccentric characters\, they find themselves in seemingly impossible situations with only each other for support. As the journey progresses so does their relationship and they begin to understand and appreciate each other as individuals while discovering that being young and being old\, aren&#39\;t all that different. More info\, schedule and to watch the trailer: https://www.criteriontheatre.org/test/2019/2/22/farmer-of-the-year-ylwf7
LOCATION:1932 Criterion Theatre 35 Cottage St Bar Harbor\, ME 04609
UID:e.3061.5119
SEQUENCE:3
DTSTAMP:20260420T063302Z
URL:https://www.visitbarharbor.com/events/details/farmer-of-the-year-award-winning-feature-film-by-new-england-filmmakers-5119
END:VEVENT

END:VCALENDAR
