BEGIN:VCALENDAR
VERSION:2.0
PRODID:-//ChamberMaster//Event Calendar 2.0//EN
METHOD:PUBLISH
X-PUBLISHED-TTL:P3D
REFRESH-INTERVAL:P3D
CALSCALE:GREGORIAN
BEGIN:VEVENT
DTSTART:20180509T213000Z
DTEND:20180509T230000Z
X-MICROSOFT-CDO-ALLDAYEVENT:FALSE
SUMMARY:Family Internet Safety Workshop
DESCRIPTION:Modern kids have never known a time when they couldn't connect to the entire world via the Internet. This presents a problem\, as there are explicit\, disturbing\, and illegal sites on the web. It is important to have the ability to block unwanted web content\, limit screen time\, restrict the use of risky applications\, and more\, to keep kids safer on their computers and mobile devices. Join our Family Internet Safety Workshop hosted by the Owners of Coastal Computers\, George Grohs and Kristina Minott\, Licensed Clinical Social Worker. ** Seating is limited. Please preregister by calling the Library: 244-7065.
X-ALT-DESC;FMTTYPE=text/html:Modern kids have never known a time when they couldn&rsquo\;t connect to the entire world via the Internet. This presents a problem\, as there are explicit\, disturbing\, and illegal sites on the web. It is important to have the ability to block unwanted web content\, limit screen time\, restrict the use of risky applications\, and more\, to keep kids safer on their computers and mobile devices. Join our Family Internet Safety Workshop hosted by the Owners of Coastal Computers\, George Grohs and Kristina Minott\, Licensed Clinical Social Worker. ** Seating is limited. Please preregister by calling the Library: 244-7065.
LOCATION:Southwest Harbor Public Library
UID:e.3061.2152
SEQUENCE:3
DTSTAMP:20260420T232458Z
URL:https://www.visitbarharbor.com/events/details/family-internet-safety-workshop-2152
END:VEVENT

END:VCALENDAR
