BEGIN:VCALENDAR
VERSION:2.0
PRODID:-//ChamberMaster//Event Calendar 2.0//EN
METHOD:PUBLISH
X-PUBLISHED-TTL:P3D
REFRESH-INTERVAL:P3D
CALSCALE:GREGORIAN
BEGIN:VEVENT
DTSTART:20181020T170000Z
DTEND:20181020T190000Z
X-MICROSOFT-CDO-ALLDAYEVENT:FALSE
SUMMARY:Fall Family Fun Day
DESCRIPTION:Celebrate fall at a fun\, family friendly event at the Jesup Memorial Library on Saturday\, Oct. 20 from 1 to 3 p.m. You can take a turn at our cider press and meet representatives\, from local farms and kids can do special food related crafts. \n\n \n\nFarmers from the Bar Harbor Farm and the Peggy Rockefeller Farms among others will have tables set up around the library. Drop by and meet them and learn about how they created their farms on MDI. \n\n \n\nKids can make ice cream in a bag\, as well as create their own sculpture with grapes and make fun art prints using fruits and veggies like celery\, apples and oranges. There will also be pumpkins to decorate as well. \n\n \n\nFor more information on this event\, contact the Jesup at 207-288-4245 or mrice@jesuplibrary.org.
X-ALT-DESC;FMTTYPE=text/html:<span style="font-family:times new roman\,serif"><span style="font-size:14.0pt">Celebrate fall at a fun\, family friendly event at the Jesup Memorial Library on Saturday\, Oct. 20 from 1 to 3 p.m. You can take a turn at our cider press and meet representatives\, from local farms and kids can do special food related crafts. </span></span><br />\n&nbsp\;<br />\n<span style="font-family:times new roman\,serif"><span style="font-size:14.0pt">Farmers from the Bar Harbor Farm and the Peggy Rockefeller Farms among others will have tables set up around the library. Drop by and meet them and learn about how they created their farms on MDI. </span></span><br />\n&nbsp\;<br />\n<span style="font-family:times new roman\,serif"><span style="font-size:14.0pt">Kids can make ice cream in a bag\, as well as create their own sculpture with grapes and make fun art prints using fruits and veggies like celery\, apples and oranges. There will also be pumpkins to decorate as well. </span></span><br />\n&nbsp\;<br />\n<span style="font-family:times new roman\,serif"><span style="font-size:14.0pt"><span>For more information on this event\, contact the Jesup at <span class="gc-cs-link" id="gc-number-0" title="Call with Google Voice">207-288-4245</span> or </span><a href="mailto:mrice@jesuplibrary.org">mrice@jesuplibrary.org</a></span>. </span><br />\n&nbsp\;
LOCATION:Jesup Memorial Library\, 34 Mt. Desert St.\, Bar Harbor\, ME 04609
UID:e.3061.3957
SEQUENCE:3
DTSTAMP:20260420T145935Z
URL:https://www.visitbarharbor.com/events/details/fall-family-fun-day-3957
END:VEVENT

END:VCALENDAR
