BEGIN:VCALENDAR
VERSION:2.0
PRODID:-//ChamberMaster//Event Calendar 2.0//EN
METHOD:PUBLISH
X-PUBLISHED-TTL:P3D
REFRESH-INTERVAL:P3D
CALSCALE:GREGORIAN
BEGIN:VEVENT
DTSTART:20190813T160000Z
DTEND:20190813T190000Z
X-MICROSOFT-CDO-ALLDAYEVENT:FALSE
SUMMARY:Fairy House and Garden Ceramics
DESCRIPTION:This two session course will have you make your own ceramic fairy house. In the first session we will make and decorate the houses using slab white stoneware clay. We may even have time to make some other fairy garden items like tables\, chairs\, and ponds. These will then be fired and in the second session we will add color and glazes\, then they will be fired again. The finished houses can be picked up in a week after the second session. If you wish\, you can join our optional third session to make an indoor or outdoor fairy garden with the items you have made.\n\n\n\nAll materials will be provided for the first 2 sessions. For the third session you are encouraged to bring your own container (with dirt or other filler) and other items for your garden. There will also be items like containers\, plants\, fairies and woodland creatures available for purchase.
X-ALT-DESC;FMTTYPE=text/html:This two session course will have you make your own ceramic fairy house. In the first session we will make and decorate the houses using slab white stoneware clay. We may even have time to make some other fairy garden items like tables\, chairs\, and ponds. These will then be fired and in the second session we will add color and glazes\, then they will be fired again. The finished houses can be picked up in a week after the second session. If you wish\, you can join our optional third session to make an indoor or outdoor fairy garden with the items you have made.<br />\n<br />\nAll materials will be provided for the first 2 sessions. For the third session you are encouraged to bring your own container (with dirt or other filler) and other items for your garden. There will also be items like containers\, plants\, fairies and woodland creatures available for purchase.
LOCATION:ArtWaves 1345 State Highway 102\, Bar Harbor\, ME\, USA
UID:e.3061.14332
SEQUENCE:3
DTSTAMP:20260419T211410Z
URL:https://www.visitbarharbor.com/events/details/fairy-house-and-garden-14332
END:VEVENT

END:VCALENDAR
