BEGIN:VCALENDAR
VERSION:2.0
PRODID:-//ChamberMaster//Event Calendar 2.0//EN
METHOD:PUBLISH
X-PUBLISHED-TTL:P3D
REFRESH-INTERVAL:P3D
CALSCALE:GREGORIAN
BEGIN:VEVENT
DTSTART:20180710T133000Z
DTEND:20180710T160000Z
X-MICROSOFT-CDO-ALLDAYEVENT:FALSE
SUMMARY:Fairy Crowns & Wands
DESCRIPTION:Join us for a magical morning of all things fairy! Learn to make a fairy crown and wand using natural twigs\, leather\, fabric\, beads\, glue\, tassel and sparkles! We will be creating dreamy crowns for the coming weekend's fairy extravaganza. This workshop is aimed to help you show up in style with your own crafty\, individualized works of art! All ages are welcome.
X-ALT-DESC;FMTTYPE=text/html:<span style="background-color:rgb(254\, 253\, 253)\; color:rgb(46\, 46\, 46)\; font-family:open sans\; font-size:15.4px">Join us for a magical morning of all things fairy! Learn to make a fairy crown and wand using natural twigs\, leather\, fabric\, beads\, glue\, tassel and sparkles! We will be creating dreamy crowns for the coming weekend&#39\;s fairy extravaganza. This workshop is aimed to help you show up in style with your own crafty\, individualized works of art! All ages are welcome.</span>
LOCATION:ArtWaves\, 1345-A State Highway 102 Village of Town Hill Bar Harbor\, ME 04609
UID:e.3061.3026
SEQUENCE:3
DTSTAMP:20260420T195543Z
URL:https://www.visitbarharbor.com/events/details/fairy-crowns-wands-3026
END:VEVENT

END:VCALENDAR
