BEGIN:VCALENDAR
VERSION:2.0
PRODID:-//ChamberMaster//Event Calendar 2.0//EN
METHOD:PUBLISH
X-PUBLISHED-TTL:P3D
REFRESH-INTERVAL:P3D
CALSCALE:GREGORIAN
BEGIN:VEVENT
DTSTART:20190928T130000Z
DTEND:20190928T160000Z
X-MICROSOFT-CDO-ALLDAYEVENT:FALSE
SUMMARY:Exploring Encaustics
DESCRIPTION:with Mary Bowers. This centuries-old medium using beeswax and varnish has fast become one of the hottest mediums for artistic exploration! This course will teach the properties and "how-to" create works of art. Ages 12 and up.
X-ALT-DESC;FMTTYPE=text/html:with Mary Bowers. This centuries-old medium using beeswax and varnish has fast become one of the hottest mediums for artistic exploration! This course will teach the properties and &ldquo\;how-to&rdquo\; create works of art. Ages 12 and up.
LOCATION:ArtWaves\, 1345-A State Highway 102\, Bar Harbor.
UID:e.3061.15073
SEQUENCE:3
DTSTAMP:20260419T172957Z
URL:https://www.visitbarharbor.com/events/details/exploring-encaustics-09-28-2019-15073
END:VEVENT

END:VCALENDAR
