BEGIN:VCALENDAR
VERSION:2.0
PRODID:-//ChamberMaster//Event Calendar 2.0//EN
METHOD:PUBLISH
X-PUBLISHED-TTL:P3D
REFRESH-INTERVAL:P3D
CALSCALE:GREGORIAN
BEGIN:VEVENT
DTSTART:20190119T180000Z
DTEND:20190119T210000Z
X-MICROSOFT-CDO-ALLDAYEVENT:FALSE
SUMMARY:Exploring Color Interactions with Rob Pollien
DESCRIPTION:Join painter & teacher Rob Pollien for an afternoon investigating color theory. We'll work through a series of exercises that cover topics such as color addition and substraction\, simultaneous contrast\, optical mixture and more. We supply all materials.
X-ALT-DESC;FMTTYPE=text/html:<div>\n<div>Join painter &amp\; teacher Rob Pollien for an afternoon investigating color theory. We&#39\;ll work through a series of exercises that cover topics such as color addition and substraction\, simultaneous contrast\, optical mixture and more. We supply all materials.</div>\n</div>\n
LOCATION:ArtWaves 1345 state Rd 102 Village of Town Hill\, Bar Harbor\, ME
UID:e.3061.4520
SEQUENCE:3
DTSTAMP:20260420T081227Z
URL:https://www.visitbarharbor.com/events/details/exploring-color-interactions-with-rob-pollien-4520
END:VEVENT

END:VCALENDAR
