BEGIN:VCALENDAR
VERSION:2.0
PRODID:-//ChamberMaster//Event Calendar 2.0//EN
METHOD:PUBLISH
X-PUBLISHED-TTL:P3D
REFRESH-INTERVAL:P3D
CALSCALE:GREGORIAN
BEGIN:VEVENT
DTSTART:20180517T230000Z
DTEND:20180518T000000Z
X-MICROSOFT-CDO-ALLDAYEVENT:FALSE
SUMMARY:Exploring Bar Harbor's Sanborn Maps
DESCRIPTION:Join Desir e Butterfield-Nagy from the University of Maine's Fogler Library to learn more about Bar Harbor's Sanborn Maps at the Jesup Memorial Library on Thursday\, May 17 at 7 p.m. The maps track the changes in Bar Harbor from 1884 to 1927\, see how Bar Harbor has changed over the years including the appearance and disappearance of roller skating rinks\, ice houses\, Chinese laundries\, millinery shops\, railroad depots\, livery stables\, bowling alleys\, ballrooms and more.\n\n \n\nThe Sanborn Maps\, produced by the Sanborn Map Company\, were originally created to assess insurance costs. Today\, the maps provide some of the most historically comprehensive coverage of cities and towns in the United States\, including detailed plans of streets and buildings dating from the late 1800s for more than 12\,000 towns\, including several on Mount Desert Island. Butterfield-Nagy will also talk about history of the Sanborn Map Company and how these maps came to be.  \n\n \n\nButterfield-Nagy has served as an archivist at the University of Maine's Fogler Library since 2009.  In addition to assisting researchers and teaching a course in Information Literacy\, she participates in several projects to make special collections materials available online\, including the department's historic photographs and the Sanborn Maps of Maine.\n\n \n\nFor more information\, contact the Jesup at 207-288-4245 or mrice@jesuplibrary.org.
X-ALT-DESC;FMTTYPE=text/html:<span style="font-family:times new roman\,serif"><span style="font-size:14.0pt">Join Desir&eacute\;e Butterfield-Nagy from the University of Maine&#39\;s Fogler Library to learn more about Bar Harbor&rsquo\;s Sanborn Maps at the Jesup Memorial Library on Thursday\, May 17 at 7 p.m. The maps track the changes in Bar Harbor from 1884 to 1927\, see how Bar Harbor has changed over the years including the appearance and disappearance of roller skating rinks\, ice houses\, Chinese laundries\, millinery shops\, railroad depots\, livery stables\, bowling alleys\, ballrooms and more.</span></span><br />\n&nbsp\;<br />\n<span style="font-family:times new roman\,serif"><span style="font-size:14.0pt">The Sanborn Maps\, produced by the Sanborn Map Company\, were originally created to assess insurance costs. Today\, the maps provide some of the most historically comprehensive coverage of cities and towns in the United States\, including detailed plans of streets and buildings dating from the late 1800s for more than 12\,000 towns\, including several on Mount Desert Island. Butterfield-Nagy will also talk about history of the Sanborn Map Company and how these maps came to be.&nbsp\; </span></span><br />\n&nbsp\;<br />\n<span style="font-family:times new roman\,serif"><span style="font-size:14.0pt">Butterfield-Nagy has served as an archivist at the University of Maine&#39\;s Fogler Library since 2009.&nbsp\; In addition to assisting researchers and teaching a course in Information Literacy\, she participates in several projects to make special collections materials available online\, including the department&#39\;s historic photographs and the Sanborn Maps of Maine.</span></span><br />\n&nbsp\;<br />\n<span style="font-family:times new roman\,serif"><span style="font-size:14.0pt">For more information\, contact the Jesup at 207-288-4245 or </span></span><a href="mailto:mrice@jesuplibrary.org"><span style="font-family:times new roman\,serif"><span style="font-size:14.0pt">mrice@jesuplibrary.org</span></span></a><span style="font-family:times new roman\,serif"><span style="font-size:14.0pt">. </span></span>
LOCATION:Jesup Memorial Library\, 34 Mt. Desert St.\, Bar Harbor\, ME 04609
UID:e.3061.2174
SEQUENCE:3
DTSTAMP:20260420T232252Z
URL:https://www.visitbarharbor.com/events/details/exploring-bar-harbor-s-sanborn-maps-2174
END:VEVENT

END:VCALENDAR
