BEGIN:VCALENDAR
VERSION:2.0
PRODID:-//ChamberMaster//Event Calendar 2.0//EN
METHOD:PUBLISH
X-PUBLISHED-TTL:P3D
REFRESH-INTERVAL:P3D
CALSCALE:GREGORIAN
BEGIN:VEVENT
DTSTART:20191003T210000Z
DTEND:20191003T230000Z
X-MICROSOFT-CDO-ALLDAYEVENT:FALSE
SUMMARY:Exhibit Opening for NANKOMIYE
DESCRIPTION:The Abbe Museum invites you to join us for the opening of our newest exhibit: NANKOMIYE\, showcasing works from Ginettte Kakakos Aubin\, Wolastoqiyik Wahsipekuk from Cacouna. In the Maliseet language\, NANKOMIYE translates to: walker or traveler\; (s)he continues on way\, passes by without stopping. About Ginette: Ginette Kakakos Aubin is part of the North American Maliseet\; Wolastoqiyik Wahsipekuk from Cacouna. She makes cultural art her primary mode of expression and draws on her past to define her artistic signature. Ginette has been involved in many solo and collective exhibitions in Quebec\, Europe\, and the United States. Her artwork is celebrated both in private and public collections locally and abroad.
X-ALT-DESC;FMTTYPE=text/html:The Abbe Museum invites you to join us for the opening of our newest exhibit: NANKOMIYE\, showcasing works from Ginettte Kakakos Aubin\, Wolastoqiyik Wahsipekuk from Cacouna. In the Maliseet language\, NANKOMIYE translates to: walker or traveler\; (s)he continues on way\, passes by without stopping. About Ginette: Ginette Kakakos Aubin is part of the North American Maliseet\; Wolastoqiyik Wahsipekuk from Cacouna. She makes cultural art her primary mode of expression and draws on her past to define her artistic signature. Ginette has been involved in many solo and collective exhibitions in Quebec\, Europe\, and the United States. Her artwork is celebrated both in private and public collections locally and abroad.
LOCATION:Abbe Museum 26 Mount Desert Street Bar Harbor\, ME 04609
UID:e.3061.15113
SEQUENCE:3
DTSTAMP:20260419T155230Z
URL:https://www.visitbarharbor.com/events/details/exhibit-opening-for-nankomiye-15113
END:VEVENT

END:VCALENDAR
