BEGIN:VCALENDAR
VERSION:2.0
PRODID:-//ChamberMaster//Event Calendar 2.0//EN
METHOD:PUBLISH
X-PUBLISHED-TTL:P3D
REFRESH-INTERVAL:P3D
CALSCALE:GREGORIAN
BEGIN:VEVENT
DTSTART:20180815T210000Z
DTEND:20180815T233000Z
X-MICROSOFT-CDO-ALLDAYEVENT:FALSE
SUMMARY:Ellsworth Antiques Show – Opening Night Party
DESCRIPTION:This year\, Woodlawn celebrates 13 years of hosting the Ellsworth Antiques Show and you are invited to experience the excitement at the Opening Night Party. Presenting sponsors for the evening are Skinner\, Inc. and Boston Private.\n\nThe evening begins with a Cocktail Party and ticket holders will enjoy delicious hors d'oeuvres and fine wine while admiring select antiques and decorative arts offered for sale by dealers of local\, national and international renown.\n\nAfter the Party\, stay and enjoy the festive Opening Night Dinner catered by Chippers Restaurant. Seating is limited to 75.\n\nCocktail Party tickets are $50 per person ($90 per couple) and Cocktail Party/Dinner tickets are $135 per person ($250 per couple or $650 for a table of 6). Purchase your tickets online today!
X-ALT-DESC;FMTTYPE=text/html:<p>This year\, Woodlawn celebrates 13 years of hosting the Ellsworth Antiques Show and you are invited to experience the excitement at the Opening Night Party. Presenting sponsors for the evening are Skinner\, Inc. and Boston Private.</p>\n\n<p>The evening begins with a Cocktail Party and ticket holders will enjoy delicious hors d&rsquo\;oeuvres and fine wine while admiring select antiques and decorative arts offered for sale by dealers of local\, national and international renown.</p>\n\n<p>After the Party\, stay and enjoy the festive Opening Night Dinner catered by Chippers Restaurant. Seating is limited to 75.</p>\n\n<p>Cocktail Party tickets are $50 per person ($90 per couple) and Cocktail Party/Dinner tickets are $135 per person ($250 per couple or $650 for a table of 6). <a href="https://woodlawnmuseum.com/event/ellsworth-antiques-show-woodlawn-opening-night-party-2018/">Purchase your tickets online today!</a></p>\n
LOCATION:Woodlawn Museum\, 19 Black House Drive\, Ellsworth\, ME 04605
UID:e.3061.2508
SEQUENCE:3
DTSTAMP:20260420T170237Z
URL:https://www.visitbarharbor.com/events/details/ellsworth-antiques-show-opening-night-party-2508
END:VEVENT

END:VCALENDAR
