BEGIN:VCALENDAR
VERSION:2.0
PRODID:-//ChamberMaster//Event Calendar 2.0//EN
METHOD:PUBLISH
X-PUBLISHED-TTL:P3D
REFRESH-INTERVAL:P3D
CALSCALE:GREGORIAN
BEGIN:VEVENT
DTSTART:20190814T210000Z
DTEND:20190814T233000Z
X-MICROSOFT-CDO-ALLDAYEVENT:FALSE
SUMMARY:Ellsworth Antiques Show – Opening Night Party
DESCRIPTION:This year\, Woodlawn celebrates 14 years of hosting the Ellsworth Antiques Show and you are invited to experience the excitement at the Opening Night Party. The evening begins with a Cocktail Party and ticket holders will enjoy delicious hors d'oeuvres and fine wine while admiring select antiques and decorative arts offered for sale by dealers of local\, national and international renown. After the Party\, stay and enjoy the festive Opening Night Dinner catered by Chippers Restaurant. Seating is limited to 90. Cocktail Party tickets are $50 per person ($90 per couple) and Cocktail Party/Dinner tickets are $135 per person ($250 per couple or $650 for a table of 6). Purchase your tickets online today! Check back soon for the Opening Night Cocktail Party and Dinner Menu!  Learn more about the Ellsworth Antique Show or call Woodlawn at 207/667-8671.
X-ALT-DESC;FMTTYPE=text/html:This year\, Woodlawn celebrates 14 years of hosting the Ellsworth Antiques Show and you are invited to experience the excitement at the Opening Night Party. The evening begins with a Cocktail Party and ticket holders will enjoy delicious hors d&rsquo\;oeuvres and fine wine while admiring select antiques and decorative arts offered for sale by dealers of local\, national and international renown. After the Party\, stay and enjoy the festive Opening Night Dinner catered by Chippers Restaurant. Seating is limited to 90. Cocktail Party tickets are $50 per person ($90 per couple) and Cocktail Party/Dinner tickets are $135 per person ($250 per couple or $650 for a table of 6). Purchase your tickets online today! Check back soon for the Opening Night Cocktail Party and Dinner Menu! &nbsp\;Learn more about the Ellsworth Antique Show or call Woodlawn at 207/667-8671.
LOCATION:Woodlawn Museum 19 Black House Dr. Ellsworth\, ME 04605
UID:e.3061.8897
SEQUENCE:3
DTSTAMP:20260419T193429Z
URL:https://www.visitbarharbor.com/events/details/ellsworth-antiques-show-opening-night-party-08-14-2019-8897
END:VEVENT

END:VCALENDAR
