BEGIN:VCALENDAR
VERSION:2.0
PRODID:-//ChamberMaster//Event Calendar 2.0//EN
METHOD:PUBLISH
X-PUBLISHED-TTL:P3D
REFRESH-INTERVAL:P3D
CALSCALE:GREGORIAN
BEGIN:VEVENT
DTSTART:20180816T140000Z
DTEND:20180818T200000Z
X-MICROSOFT-CDO-ALLDAYEVENT:FALSE
SUMMARY:Ellsworth Antiques Show at Woodlawn
DESCRIPTION:America's longest running summer antiques show and the region's premier cultural event featuring 28 dealers of local\, national and international renown.\n\nThe antiques dealers will present an array of quality antiques and art. Fine examples of American and English furniture and accessories\, American paintings and watercolors\, quilts\, prints\, rare books\, ceramics\, folk art\, silver\, jewelry\, and oriental rugs will be among the items for sale. Chippers Black House Caf  will be serving lobster rolls\, salads\, entrees\, hot and cold sandwiches\, and wine and beer. Show admission is $15 including tour of the museum or $10 for show only.\n\nShow Hours\n\nThursday & Friday 10am to 6pm\n\nSaturday 10am to 4pm
X-ALT-DESC;FMTTYPE=text/html:<p>America&rsquo\;s longest running summer antiques show and the region&rsquo\;s premier cultural event featuring 28 dealers of local\, national and international renown.</p>\n\n<p>The antiques dealers will present an array of quality antiques and art. Fine examples of American and English furniture and accessories\, American paintings and watercolors\, quilts\, prints\, rare books\, ceramics\, folk art\, silver\, jewelry\, and oriental rugs will be among the items for sale. Chippers Black House Caf&eacute\; will be serving lobster rolls\, salads\, entrees\, hot and cold sandwiches\, and wine and beer.&nbsp\;Show admission is $15 including tour of the museum or $10 for show only.</p>\n\n<p>Show Hours<br />\nThursday &amp\; Friday 10am to 6pm<br />\nSaturday 10am to 4pm</p>\n
LOCATION:Woodlawn Museum\, 19 Black House Drive\, Ellsworth\, ME 04605
UID:e.3061.2509
SEQUENCE:3
DTSTAMP:20260420T183011Z
URL:https://www.visitbarharbor.com/events/details/ellsworth-antiques-show-at-woodlawn-2509
END:VEVENT

END:VCALENDAR
