BEGIN:VCALENDAR
VERSION:2.0
PRODID:-//ChamberMaster//Event Calendar 2.0//EN
METHOD:PUBLISH
X-PUBLISHED-TTL:P3D
REFRESH-INTERVAL:P3D
CALSCALE:GREGORIAN
BEGIN:VEVENT
DTSTART:20180915T230000Z
DTEND:20180916T000000Z
X-MICROSOFT-CDO-ALLDAYEVENT:FALSE
SUMMARY:Egyptian Travels with Abigail Conrad
DESCRIPTION:Last year\, Abigail Conrad\, and her husband Gary\, crisscrossed Egypt seeing some of the country's most historic sites. Join Conrad at the Jesup Memorial Library on Saturday\, September 15 at 7 p.m. as she shares pictures and stories from her journey.\n\n \n\nThey began their trip in Egypt's capital city\, Cairo\, before flying to Aswan\, a city in southern Egypt on the Nile. From there\, they took a boat cruise south on Lake Nassar as to the rock temples of Abu Simbel. After traveling back to Aswan\, they took a cruise up the Nile to Luxor\, the site of Thebes\, the pharaohs' capital\, during the 16th 11th centuries B.C. During their time in the country they visited the Temple of Ramesses II at Abu Simbel\; The Temple of Philae at Aswan\; Karnak Complex at Luxor\; the Valley of the Kings in Luxor\; the Djoser Step Pyramid at Memphis\; and the Khafre's Pyramid at Giza.  \n\n \n\nFor more information on the talk contact the Jesup at 207-288-4245 or mrice@jesuplibrary.org.
X-ALT-DESC;FMTTYPE=text/html:<span style="font-family:times new roman\,serif"><span style="font-size:14.0pt">Last year\, Abigail Conrad\, and her husband Gary\, crisscrossed Egypt seeing some of the country&rsquo\;s most historic sites. Join Conrad at the Jesup Memorial Library on Saturday\, September 15 at 7 p.m. as she shares pictures and stories from her journey.</span></span><br />\n&nbsp\;<br />\n<span style="font-family:times new roman\,serif"><span style="font-size:14.0pt">They began their trip in Egypt&rsquo\;s capital city\, Cairo\, before flying to Aswan\, a city in southern Egypt on the Nile. From there\, they took a boat cruise south on Lake Nassar as to the rock temples of Abu Simbel. After traveling back to Aswan\, they took a cruise up the Nile to Luxor\, the site of Thebes\, the pharaohs&rsquo\; capital\, during the 16th&ndash\;11th centuries B.C. During their time in the country they visited the Temple of Ramesses II at Abu Simbel\; The Temple of Philae at Aswan\; Karnak Complex at Luxor\; the Valley of the Kings in Luxor\; the Djoser Step Pyramid at Memphis\; and the Khafre&#39\;s Pyramid at Giza.&nbsp\; </span></span><br />\n&nbsp\;<br />\n<span style="font-family:times new roman\,serif"><span style="font-size:14.0pt">For more information on the talk contact the Jesup at 207-288-4245 or <a href="mailto:mrice@jesuplibrary.org">mrice@jesuplibrary.org</a></span>. </span>
LOCATION:Jesup Memorial Library\, 34 Mt. Desert St.\, Bar Harbor\, ME 04609
UID:e.3061.3841
SEQUENCE:3
DTSTAMP:20260420T151206Z
URL:https://www.visitbarharbor.com/events/details/egyptian-travels-with-abigail-conrad-3841
END:VEVENT

END:VCALENDAR
