BEGIN:VCALENDAR
VERSION:2.0
PRODID:-//ChamberMaster//Event Calendar 2.0//EN
METHOD:PUBLISH
X-PUBLISHED-TTL:P3D
REFRESH-INTERVAL:P3D
CALSCALE:GREGORIAN
BEGIN:VEVENT
DTSTART:20190304T143000Z
DTEND:20190304T163000Z
X-MICROSOFT-CDO-ALLDAYEVENT:FALSE
SUMMARY:Eggspressive Art- EGGCITING Pysanky
DESCRIPTION:Join Us for this EGGCITING  Pysanky Workshop. We will have fun learning all about the EGGspressional Art form. We will cover History\, Symbolism(Geometric\, Animal\, Plant and Color)\, Tools of Pysanky. You will be guided through all steps of transforming a plain egg into a work of art. All supplies will be provided and you will go home with 2 Pysanky Eggs.\nAbout the Instructor Suzie was about 6 years old when her mother taught her the Art of Pysanky standing at the stove with a pencil with a straight pin as the tool\, a little pan of wax\, a raw egg and dyes made out of onion skins\, beets and walnut husks. In the late 80's I discovered a candle Kitska and then while on vacation saw a flyer for a workshop. Woohoo...Introduced to the electric Kitska. Changed my world. a great article that was done years ago\, just have to find it.
X-ALT-DESC;FMTTYPE=text/html:<span style="color:rgb(46\, 46\, 46)\; font-family:open sans\,sans-serif\; font-size:15px">Join Us for this EGGCITING&nbsp\; Pysanky Workshop. We will have fun learning all about the EGGspressional&nbsp\;Art form. We will cover History\, Symbolism(Geometric\, Animal\, Plant and Color)\, Tools of Pysanky. You will be guided through all steps of transforming a plain egg into a work of art. All supplies will be provided and you will go home with 2 Pysanky Eggs.</span>\n<h3>About the Instructor Suzie was about 6 years old when her mother taught her the Art of Pysanky standing at the stove with a pencil with a straight pin as the tool\, a little pan of wax\, a raw egg and dyes made out of onion skins\, beets and walnut husks. In the late 80&#39\;s I discovered a candle Kitska and then while on vacation saw a flyer for a workshop.&nbsp\;Woohoo...Introduced to the electric Kitska. Changed my world. a great article that was done years ago\, just have to find it.&nbsp\;</h3>\n<br />\n&nbsp\;
LOCATION:ArtWaves 1345 st hwy 102 Village of Town Hill
UID:e.3061.5377
SEQUENCE:3
DTSTAMP:20260420T062315Z
URL:https://www.visitbarharbor.com/events/details/eggspressive-art-eggciting-pysanky-5377
END:VEVENT

END:VCALENDAR
