BEGIN:VCALENDAR
VERSION:2.0
PRODID:-//ChamberMaster//Event Calendar 2.0//EN
METHOD:PUBLISH
X-PUBLISHED-TTL:P3D
REFRESH-INTERVAL:P3D
CALSCALE:GREGORIAN
BEGIN:VEVENT
DTSTART:20190802T200000Z
DTEND:20190802T230000Z
X-MICROSOFT-CDO-ALLDAYEVENT:FALSE
SUMMARY:Eden\, 50 Year Retrospective Artist Russell D'Alessio
DESCRIPTION:Landscape to Dreamscape a whole island made of cake\n\nMt. Desert Island\, Eden a place to create & dream.\n\nJoin us to celebrate 50 years of ART from life\, memory\, & imagination\n\nby Artist Russell D'Alessio\n\n\n\n D'Alessio Gallery in Bar Harbor will host an art opening on August 2 celebrating 50 years of art by local artist Russell D'Alessio. The opening will be held from 4 p.m. to 7 p.m. at D'Alessio Gallery\, 12 Mt. Desert St.\, Bar Harbor and will include a reunion of the "The Anderson Brothers\," a local Bar Harbor band in the 70's\, champagne and hors d'oeuvres.\n\n \n\nThe event kicks off the exhibition Eden: A Retrospective\, documenting five decades of artistic evolution for the colorful painter\, beginning with his art school days. D'Alessio's journey as a Maine artist began when he was inspired by his first visit to Bar Harbor while still a student in 1969. Enchanted by the beauty of the area\, he and wife Linda D'Alessio relocated to Mount Desert Island in 1974.\n\n \n\nIn '88 the couple settled into their new home and studio in Dedham Maine.  The view from their perch on Button hill was over the setting moon. This inspired the new studio's name\, Over the Moon Studios.\n\n \n\nOver the Moon Studios opened its first store in Bar Harbor in 1989\, 30 years ago.  The following year the gallery was renamed Pretty Marsh Gallery featuring and featured Over the Moon Studio products and Russ's fine art including paintings\, carvings\, and graphics.\n\n \n\nLinda says\, "it has been an amazing journey for the both of us." Ten years ago\, the artistic journey continued with a move to Mt. Desert Street and a name change to D'Alessio Gallery. Today\, D'Alessio is known for his paintings\, frequently of women\, featuring playfully bold fields of color and spontaneous brushstrokes. His works often whimsical\, sometimes more serious and political have enchanted decades of gallery visitors and collectors. Reflecting on the connections he creates through his art\, D'Alessio says\, "I am creating a world\, an expression of myself\, that extends to other people. Collectors first see the color\, which brings a smile to their faces\; then they realize there is content to it and they connect. It becomes part of them."\n\n\n\nThe opening and exhibition celebration of 50 years of continuous evolution that includes not only paintings but also mixed media\, collage\, sculpture\, and prints. "Like any true artist\," Linda D'Alessio says\, Russell D'Alessio is "always creating\, always moving forward. It will be exciting to see what the next 50 years will bring!"\n\n \n\nShow runs through August 5th in the gallery   online through August 31st
X-ALT-DESC;FMTTYPE=text/html:<span style="font-size:14px"><strong><em>Landscape to Dreamscape a whole island made of cake<br />\nMt. Desert Island\, Eden a place to create &amp\; dream.<br />\nJoin us to celebrate 50 years of ART from life\, memory\, &amp\; imagination<br />\nby Artist Russell D&#39\;Alessio</em></strong></span><br />\n<br />\n&nbsp\;D&rsquo\;Alessio Gallery in Bar Harbor will host an art opening on August 2 celebrating 50 years of art by local artist Russell D&rsquo\;Alessio. The opening will be held from 4 p.m. to 7 p.m. at D&rsquo\;Alessio Gallery\, 12 Mt. Desert St.\, Bar Harbor and will include a reunion of the &ldquo\;The Anderson Brothers\,&rdquo\; a local Bar Harbor band in the 70&rsquo\;s\, champagne and hors d&#39\;oeuvres.<br />\n&nbsp\;<br />\nThe event kicks off the exhibition <em>Eden: A Retrospective</em>\, documenting five decades of artistic evolution for the colorful painter\, beginning with his art school days. D&rsquo\;Alessio&rsquo\;s journey as a Maine artist began when he was inspired by his first visit to Bar Harbor while still a student in 1969. Enchanted by the beauty of the area\, he and wife Linda D&rsquo\;Alessio relocated to Mount Desert Island in 1974.<br />\n&nbsp\;<br />\nIn &lsquo\;88 the couple settled into their new home and studio in Dedham Maine.&nbsp\; The view from their perch on Button hill was over the setting moon. This inspired the new studio&rsquo\;s name\, Over the Moon Studios.<br />\n&nbsp\;<br />\nOver the Moon Studios opened its first store in Bar Harbor in 1989\, 30 years ago.&nbsp\; The following year the gallery was renamed Pretty Marsh Gallery featuring and featured Over the Moon Studio products and Russ&rsquo\;s fine art including paintings\, carvings\, and graphics.<br />\n&nbsp\;<br />\nLinda says\, &ldquo\;it has been an amazing journey for the both of us.&rdquo\; Ten years ago\, the artistic journey continued with a move to Mt. Desert Street and a name change to D&rsquo\;Alessio Gallery. Today\, D&rsquo\;Alessio is known for his paintings\, frequently of women\, featuring playfully bold fields of color and spontaneous brushstrokes. His works&mdash\;often whimsical\, sometimes more serious and political&mdash\;have enchanted decades of gallery visitors and collectors. Reflecting on the connections he creates through his art\, D&rsquo\;Alessio says\, &ldquo\;I am creating a world\, an expression of myself\, that extends to other people. Collectors first see the color\, which brings a smile to their faces\; then they realize there is content to it and they connect. It becomes part of them.&rdquo\;<br />\n<br />\nThe opening and exhibition celebration of 50 years of continuous evolution that includes not only paintings but also mixed media\, collage\, sculpture\, and prints. &ldquo\;Like any true artist\,&rdquo\; Linda D&rsquo\;Alessio says\, Russell D&rsquo\;Alessio is &ldquo\;always creating\, always moving forward. It will be exciting to see what the next 50 years will bring!&rdquo\;<br />\n&nbsp\;<br />\n<span style="color:#222222"><span style="font-family:times new roman\,serif"><span style="font-size:12.0pt">Show runs through August 5<sup>th</sup> in the gallery &ndash\; online through August 31<sup>st</sup></span></span></span>
LOCATION:D'Alessio Gallery\, 12 Mt. Desert St.\, Bar Harbor\, ME 04609
UID:e.3061.14298
SEQUENCE:3
DTSTAMP:20260419T193452Z
URL:https://www.visitbarharbor.com/events/details/eden-50-year-retrospective-artist-russell-d-alessio-14298
END:VEVENT

END:VCALENDAR
