BEGIN:VCALENDAR
VERSION:2.0
PRODID:-//ChamberMaster//Event Calendar 2.0//EN
METHOD:PUBLISH
X-PUBLISHED-TTL:P3D
REFRESH-INTERVAL:P3D
CALSCALE:GREGORIAN
BEGIN:VEVENT
DTSTART:20180524T210000Z
DTEND:20180525T000000Z
X-MICROSOFT-CDO-ALLDAYEVENT:FALSE
SUMMARY:Eastern Maine Skippers Program Final Presentations
DESCRIPTION:Support the Eastern Maine Skippers Program (EMSP) by attending their final presentations at The Grand in Ellsworth. Over 100 students\, from eight Maine high schools\, will present to an audience and panel of judges. EMSP utilizes a project-based approach to learning\, where students explore real-world problems to gain a deeper knowledge and skill set. Each year\, students tackle a new project. This year\, they're focused on "How can individuals and communities manage and restore local fisheries?" The event is free to the public.
X-ALT-DESC;FMTTYPE=text/html:Support the Eastern Maine Skippers Program (EMSP) by attending their final presentations at The Grand in Ellsworth. Over 100 students\, from eight Maine high schools\, will present to an audience and panel of judges.&nbsp\;EMSP utilizes a project-based approach to learning\, where students explore real-world problems to gain a deeper knowledge and skill set. Each year\, students tackle a new project. This year\, they&rsquo\;re focused on &ldquo\;How can individuals and communities manage and restore local fisheries?&rdquo\;&nbsp\;The event is free to the public.
LOCATION:The Grand in Ellsworth\, 165 Main St\, Ellsworth\, ME 04605
UID:e.3061.2210
SEQUENCE:3
DTSTAMP:20260420T213447Z
URL:https://www.visitbarharbor.com/events/details/eastern-maine-skippers-program-final-presentations-2210
END:VEVENT

END:VCALENDAR
