BEGIN:VCALENDAR
VERSION:2.0
PRODID:-//ChamberMaster//Event Calendar 2.0//EN
METHOD:PUBLISH
X-PUBLISHED-TTL:P3D
REFRESH-INTERVAL:P3D
CALSCALE:GREGORIAN
BEGIN:VEVENT
DTSTART:20191108T210000Z
DTEND:20191109T000000Z
X-MICROSOFT-CDO-ALLDAYEVENT:FALSE
SUMMARY:Early Bird Eve Wine Tasting
DESCRIPTION:Great deals on great wines!
X-ALT-DESC;FMTTYPE=text/html:Great deals on great wines!
LOCATION:227a Main Street Bar Harbor\, ME
UID:e.3061.16299
SEQUENCE:3
DTSTAMP:20260419T141713Z
URL:https://www.visitbarharbor.com/events/details/early-bird-eve-wine-tasting-16299
END:VEVENT

END:VCALENDAR
