BEGIN:VCALENDAR
VERSION:2.0
PRODID:-//ChamberMaster//Event Calendar 2.0//EN
METHOD:PUBLISH
X-PUBLISHED-TTL:P3D
REFRESH-INTERVAL:P3D
CALSCALE:GREGORIAN
BEGIN:VEVENT
DTSTART:20190921T170000Z
DTEND:20190921T200000Z
X-MICROSOFT-CDO-ALLDAYEVENT:FALSE
SUMMARY:Driftwood Mobiles
DESCRIPTION:with Mary Bowers. Calder meets Beachcomber. Bring your own driftwood and shell treasures or work with our collection to create a unique floating seascape. We will have the tools on hand to drill holes and balance your creation.
X-ALT-DESC;FMTTYPE=text/html:&nbsp\;with Mary Bowers. Calder meets Beachcomber. Bring your own driftwood and shell treasures or work with our collection to create a unique floating seascape. We will have the tools on hand to drill holes and balance your creation.&nbsp\;
LOCATION:ArtWaves\, 1345-A State Highway 102\, Bar Harbor.
UID:e.3061.14786
SEQUENCE:3
DTSTAMP:20260419T173530Z
URL:https://www.visitbarharbor.com/events/details/driftwood-mobiles-09-21-2019-14786
END:VEVENT

END:VCALENDAR
