BEGIN:VCALENDAR
VERSION:2.0
PRODID:-//ChamberMaster//Event Calendar 2.0//EN
METHOD:PUBLISH
X-PUBLISHED-TTL:P3D
REFRESH-INTERVAL:P3D
CALSCALE:GREGORIAN
BEGIN:VEVENT
DTSTART:20180719T210000Z
DTEND:20180719T230000Z
X-MICROSOFT-CDO-ALLDAYEVENT:FALSE
SUMMARY:Drawing from Nature
DESCRIPTION:Jordan Chalfant\, a local artist whose work is on exhibit in Drawing from Nature will share insights into her process for drawing and painting and her excitement for exploring nature. She will provide coaching as participants practice sketching and try different techniques to capture observations. Pre-registration is required as space is limited. $15 for museum members\, $20 for all others.
X-ALT-DESC;FMTTYPE=text/html:Jordan Chalfant\, a local artist whose work is on exhibit in Drawing from Nature will share insights into her process for drawing and painting and her excitement for exploring nature. She will provide coaching as participants practice sketching and try different techniques to capture observations. Pre-registration is required as space is limited. $15 for museum members\, $20 for all others.
LOCATION:Wendell Gilley Museum 4 Herrick Rd\, Southwest Harbor 04679
UID:e.3061.3297
SEQUENCE:3
DTSTAMP:20260420T182336Z
URL:https://www.visitbarharbor.com/events/details/drawing-from-nature-3297
END:VEVENT

END:VCALENDAR
