BEGIN:VCALENDAR
VERSION:2.0
PRODID:-//ChamberMaster//Event Calendar 2.0//EN
METHOD:PUBLISH
X-PUBLISHED-TTL:P3D
REFRESH-INTERVAL:P3D
CALSCALE:GREGORIAN
BEGIN:VEVENT
DTSTART:20181213T230000Z
DTEND:20181214T003000Z
X-MICROSOFT-CDO-ALLDAYEVENT:FALSE
SUMMARY:Drawing boats\, yachts\, ships & the sea
DESCRIPTION:The essence\, and a lot of the fun\, of marine art is in drawing. We will do a three session\n\n\nDrawing seminar\, with lots of instruction on getting the perspective\, vanishing lines\, and\n\nProportions really right. There will be analysis of the aesthetics of boats and the sea.\nMaterials List\n\n4 week class\n\nIf you have an easel that you like to use\, please bring it. ArtWaves has easels as well.\n\nBring drawing pencils and a sketch pad
X-ALT-DESC;FMTTYPE=text/html:<div>The essence\, and a lot of the fun\, of marine art is in drawing. We will do a three session</div>\n\n<div>\n<div>Drawing seminar\, with lots of instruction on getting the perspective\, vanishing lines\, and<br />\nProportions really right. There will be analysis of the aesthetics of boats and the sea.\n<h3>Materials List</h3>\n\n<p>4 week class</p>\n\n<p>If you have an easel that you like to use\, please bring it. ArtWaves has easels as well.</p>\n\n<p>Bring drawing pencils and a sketch pad</p>\n\n<p>&nbsp\;</p>\n</div>\n</div>\n
LOCATION:ArtWaves\, 1345-A ME-102\, Bar Harbor\, ME 04609\, USA
UID:e.3061.4790
SEQUENCE:3
DTSTAMP:20260420T100843Z
URL:https://www.visitbarharbor.com/events/details/drawing-boats-yachts-ships-the-sea-12-13-2018-4790
END:VEVENT

END:VCALENDAR
