BEGIN:VCALENDAR
VERSION:2.0
PRODID:-//ChamberMaster//Event Calendar 2.0//EN
METHOD:PUBLISH
X-PUBLISHED-TTL:P3D
REFRESH-INTERVAL:P3D
CALSCALE:GREGORIAN
BEGIN:VEVENT
DTSTART:20191116T160000Z
DTEND:20191116T170000Z
X-MICROSOFT-CDO-ALLDAYEVENT:FALSE
SUMMARY:Dragon and Unicorn Story Time
DESCRIPTION:Kids can join Miss Mae for a special dragons and unicorns story time at the Jesup Memorial Library on Saturday\, Nov. 16 at 11 a.m. We will read "Uni the Unicorn" by Amy Krouse Rosenthal\, "The Dragon and the Unicorn" by Lynne Cherry and "How to Draw a Dragon" by Douglas Florian. After reading the stories\, kids can enjoy a snack and create their own unicorn or dragon slime to take home. This story time is suitable for children ages three and up. \n\n \n\nFor more information\, contact the Jesup at 207-288-4245.
X-ALT-DESC;FMTTYPE=text/html:<span style="font-family:times new roman\,serif"><span style="font-size:14.0pt">Kids can join Miss Mae for a special dragons and unicorns story time at the Jesup Memorial Library on Saturday\, Nov. 16 at 11 a.m. We will read &ldquo\;Uni the Unicorn&rdquo\; by Amy Krouse Rosenthal\, &ldquo\;The Dragon and the Unicorn&rdquo\; by Lynne Cherry and &ldquo\;How to Draw a Dragon&rdquo\; by Douglas Florian. After reading the stories\, kids can enjoy a snack and create their own unicorn or dragon slime to take home. This story time is suitable for children ages three and up. </span></span><br />\n&nbsp\;<br />\n<span style="font-family:times new roman\,serif"><span style="font-size:14.0pt">For more information\, contact the Jesup at 207-288-4245. </span></span>
LOCATION:Jesup Memorial Library\, 34 Mt. Desert St.\, Bar Harbor\, ME 04609
UID:e.3061.16329
SEQUENCE:3
DTSTAMP:20260419T155532Z
URL:https://www.visitbarharbor.com/events/details/dragon-and-unicorn-story-time-16329
END:VEVENT

END:VCALENDAR
