BEGIN:VCALENDAR
VERSION:2.0
PRODID:-//ChamberMaster//Event Calendar 2.0//EN
METHOD:PUBLISH
X-PUBLISHED-TTL:P3D
REFRESH-INTERVAL:P3D
CALSCALE:GREGORIAN
BEGIN:VEVENT
DTSTART:20180519T190000Z
DTEND:20180519T200000Z
X-MICROSOFT-CDO-ALLDAYEVENT:FALSE
SUMMARY:Dr. Dianna Emory Launches "Bonding with Nature"
DESCRIPTION:Join Dr. Dianna Emory for the launch of her book "Bonding with Nature: Responding to Life's Challenges and the Aging Process" on Saturday\, May 19 at 3 p.m. at the Jesup Memorial Library. "Bonding with Nature" shows readers how maintain the critical connection to the natural world throughout life?even when life challenges\, medical issues\, trauma\, or normal aging interfere. The book draws upon Dr. Emory's professional experience in the mental health and medical arenas\; her deep familial and personal cancer history\; her passion for and volunteerism on behalf of national parks and conserved places\; and her love of flora and fauna.   \n\n \n\nDr. Emory describes\, and supports through research\, how creative approaches to interacting with nature at home and in local lands\, state and national parks\, and other green spaces can carry people through challenges\, especially when combined with meaningful relationships\, volunteer activities\, relaxation techniques\, visualization\, exercise\, and healthy food. She addresses these wellness components and creates a template for use in any environment\, using two national parks and related color photographs as models. \n\n \n\n"Dianna shares a powerful and timely message through 'Bonding with Nature' that our connections with the land and the sea\, and with wildlife and beauty\, can change our lives and even change the world\," says David MacDonald\, president of Friends of Acadia\, where she chaired the Board of Directors for many years. "Her themes are universal and could not come at a more important time." \n\n \n\nTim Glidden\, President of Maine Coast Heritage Trust\, adds\, "This is an important book for those in an imperiled world.  Dr. Emory's message guides us to nature's timeless reservoirs of rejuvenation\, solace and strength She combines inspiring vision with practical advice\, all grounded in the deep experience of a life well-lived in her service of nature and humanity."  \n\n \n\nThis talk is part of Age By Design and is co-sponsored by YWCA Mount Desert Island\, Mount Desert Island YMCA and Island Connections. Books will be on sale that day courtesy of Sherman's Books. All author royalties from retail sales of "Bonding with Nature" are directed to medical institutions and organizations working on behalf of the natural world and her creatures. For more information on Age By Design programs contact the Jesup at 207-288-4245 or athomas@jesuplibrary.org.
X-ALT-DESC;FMTTYPE=text/html:<span style="font-family:times new roman\,serif"><span style="font-size:13.0pt">Join Dr. Dianna Emory for the launch of her book &ldquo\;Bonding with Nature: Responding to Life&rsquo\;s Challenges and the Aging Process&rdquo\; on Saturday\, May 19 at 3 p.m. at the Jesup Memorial Library. &ldquo\;Bonding with Nature&rdquo\; shows readers how maintain the critical connection to the natural world throughout life?even when life challenges\, medical issues\, trauma\, or normal aging interfere. The book draws upon Dr. Emory&rsquo\;s professional experience in the mental health and medical arenas\; her deep familial and personal cancer history\; her passion for and volunteerism on behalf of national parks and conserved places\; and her love of flora and fauna.&nbsp\;&nbsp\; </span></span><br />\n&nbsp\;<br />\n<span style="font-family:times new roman\,serif"><span style="font-size:13.0pt">Dr. Emory describes\, and supports through research\, how creative approaches to interacting with nature at home and in local lands\, state and national parks\, and other green spaces can carry people through challenges\, especially when combined with meaningful relationships\, volunteer activities\, relaxation techniques\, visualization\, exercise\, and healthy food. She addresses these wellness components and creates a template for use in any environment\, using two national parks and related color photographs as models. </span></span><br />\n&nbsp\;<br />\n<span style="font-family:times new roman\,serif"><span style="font-size:13.0pt">&ldquo\;Dianna shares a powerful and timely message through &lsquo\;Bonding with Nature&rsquo\; that our connections with the land and the sea\, and with wildlife and beauty\, can change our lives&mdash\;and even change the world\,&rdquo\; says David MacDonald\, president of Friends of Acadia\, where she chaired the Board of Directors for many years. &ldquo\;Her themes are universal and could not come at a more important time.&rdquo\; </span></span><br />\n&nbsp\;<br />\n<span style="font-family:times new roman\,serif"><span style="font-size:13.0pt">Tim Glidden\, President of Maine Coast Heritage Trust\, adds\, &ldquo\;This is an important book for those in an imperiled world.&nbsp\; Dr. Emory&rsquo\;s message guides us to nature&rsquo\;s timeless reservoirs of rejuvenation\, solace and strength&hellip\;She combines inspiring vision with practical advice\, all grounded in the deep experience of a life well-lived in her service of nature and humanity.&rdquo\;&nbsp\; </span></span><br />\n&nbsp\;<br />\n<span style="font-family:times new roman\,serif"><span style="font-size:13.0pt">This talk is part of Age By Design and is co-sponsored by YWCA Mount Desert Island\, Mount Desert Island YMCA and Island Connections. Books will be on sale that day courtesy of Sherman&rsquo\;s Books. All author royalties from retail sales of &ldquo\;Bonding with Nature&rdquo\; are directed to medical institutions and organizations working on behalf of the natural world and her creatures. For more information on Age By Design programs contact the Jesup at 207-288-4245 or </span></span><a href="mailto:athomas@jesuplibrary.org"><span style="font-family:times new roman\,serif"><span style="font-size:13.0pt">athomas@jesuplibrary.org</span></span></a><span style="font-family:times new roman\,serif"><span style="font-size:13.0pt">. </span></span>
LOCATION:Jesup Memorial Library\, 34 Mt. Desert St.\, Bar Harbor\, ME 04609
UID:e.3061.2178
SEQUENCE:3
DTSTAMP:20260420T215852Z
URL:https://www.visitbarharbor.com/events/details/dr-dianna-emory-launches-bonding-with-nature-2178
END:VEVENT

END:VCALENDAR
