BEGIN:VCALENDAR
VERSION:2.0
PRODID:-//ChamberMaster//Event Calendar 2.0//EN
METHOD:PUBLISH
X-PUBLISHED-TTL:P3D
REFRESH-INTERVAL:P3D
CALSCALE:GREGORIAN
BEGIN:VEVENT
DTSTART:20180720T210000Z
DTEND:20180721T160000Z
X-MICROSOFT-CDO-ALLDAYEVENT:FALSE
SUMMARY:Down East Sunrise Trail Relay
DESCRIPTION:The Down East Sunrise Trail Relay\, hosted by Crow Athletics\, is Maine's first and only all night team relay! The relay follows the scenic Down East Sunrise Trail\, which starts in Ellsworth\, known as the Crossroads of Down East Maine\, and finishes in Eastport\, the Eastern Most City in the USA.\n\nThe extremely scenic route is 102.7-miles in length with the first 85-miles run on the multi-use\, rails-to-trails corridor connecting Washington Junction to Ayers Junction. The relay route continues on MAP206\, another rails-to-trail surface\, before crossing US Route 1 in Perry to the paved Sipayik Trail\, which follows the ocean's edge of the Pleasant Point Passamaquoddy Reservation. The final miles are paved along scenic Route 190 before touring the town of Eastport and finishing on the historic working waterfront.\nTeams of 4 to 8 runners will run thru the night and into the next day in individual relay legs ranging from just under 4 miles to just over 10 miles and finish at our fabulous seaside post race celebration.\n\n\n\nThis race benefits the Sunrise Trail Coalition\, the nonprofit group that manages and maintains the Down East Sunrise Trail.\n\n\n\nMore information & registration: http://destrelay.crowathletics.com/\n\nFollow us on Facebook & Twitter   Instagram
X-ALT-DESC;FMTTYPE=text/html:<p>The&nbsp\;<a href="http://destrelay.crowathletics.com/" target="_blank">Down East Sunrise Trail Relay</a>\, hosted by&nbsp\;<a href="http://crowathletics.com/" target="_blank">Crow Athletics</a>\, is Maine&rsquo\;s first and only all night team relay! The relay follows the scenic Down East Sunrise Trail\, which starts in Ellsworth\, known as the Crossroads of Down East Maine\, and finishes in Eastport\, the Eastern Most City in the USA.</p>\n\n<p>The extremely scenic route is 102.7-miles in length with the first 85-miles run on the multi-use\, rails-to-trails corridor connecting Washington Junction to Ayers Junction. The relay route continues on MAP206\, another rails-to-trail surface\, before crossing US Route 1 in Perry to the paved Sipayik Trail\, which follows the ocean&rsquo\;s edge of the Pleasant Point Passamaquoddy Reservation. The final miles are paved along scenic Route 190 before touring the town of Eastport and finishing on the historic working waterfront.</p>\n<span style="color:rgb(34\, 34\, 34)\; font-family:arial\,verdana\,sans-serif\; font-size:12px">Teams of 4 to 8 runners will run thru the night and into the next day in individual relay legs ranging from just under 4 miles to just over 10 miles and finish at our fabulous seaside post race celebration.</span><br />\n<br />\n<span style="color:rgb(34\, 34\, 34)\; font-family:arial\,verdana\,sans-serif\; font-size:12px">This race benefits the Sunrise Trail Coalition\, the nonprofit group that manages and maintains the Down East Sunrise Trail.</span><br />\n<br />\n<span style="color:rgb(34\, 34\, 34)\; font-family:arial\,verdana\,sans-serif\; font-size:12px">More information &amp\; registration:&nbsp\;</span><a href="http://destrelay.crowathletics.com/" style="font-family: Arial\, Verdana\, sans-serif\; font-size: 12px\;" target="_blank">http://destrelay.crowathletics.com/</a><br />\n<span style="color:rgb(34\, 34\, 34)\; font-family:arial\,verdana\,sans-serif\; font-size:12px">Follow us on&nbsp\;</span><a href="http://www.facebook.com/destrelay" style="font-family: Arial\, Verdana\, sans-serif\; font-size: 12px\;" target="_blank">Facebook</a><span style="color:rgb(34\, 34\, 34)\; font-family:arial\,verdana\,sans-serif\; font-size:12px">&nbsp\;&amp\;&nbsp\;</span><a href="http://twitter.com/crowathletics" style="font-family: Arial\, Verdana\, sans-serif\; font-size: 12px\;" target="_blank">Twitter</a><span style="color:rgb(34\, 34\, 34)\; font-family:arial\,verdana\,sans-serif\; font-size:12px">&nbsp\;&bull\;&nbsp\;</span><a href="http://instagram.com/crowathletics/" style="font-family: Arial\, Verdana\, sans-serif\; font-size: 12px\;" target="_blank">Instagram</a>
LOCATION:Ellsworth to Eastport
UID:e.3061.821
SEQUENCE:3
DTSTAMP:20260420T195728Z
URL:https://www.visitbarharbor.com/events/details/down-east-sunrise-trail-relay-821
END:VEVENT

END:VCALENDAR
