BEGIN:VCALENDAR
VERSION:2.0
PRODID:-//ChamberMaster//Event Calendar 2.0//EN
METHOD:PUBLISH
X-PUBLISHED-TTL:P3D
REFRESH-INTERVAL:P3D
CALSCALE:GREGORIAN
BEGIN:VEVENT
DTSTART:20181219T230000Z
DTEND:20181220T010000Z
X-MICROSOFT-CDO-ALLDAYEVENT:FALSE
SUMMARY:Dinosaur Pajama Story Time
DESCRIPTION:Join Miss Mae and be a dinosaur at a special pajama story time on Wednesday\, Dec. 19 at 6 p.m. We'll roar and march\, read stories\, make a dino-themed craft and enjoy a snack. \n\n \n\nMiss Mae will read "How Do Dinosaurs Learn to Read?" by Jane Yolen and "Edwina\, the Dinosaur Who Didn't Know She Was Extinct" by Mo Willems. Then kids can march along to "We are the Dinosaurs" by Laurie Berkner. \n\n \n\nCome in your pajamas or your dinosaur best and join in on the fun. For more information contact Mae Corrion\, Youth Services Librarian\, at 207-288-4245 or mcorrion@jesuplibrary.org.
X-ALT-DESC;FMTTYPE=text/html:<span style="font-family:times new roman\,serif"><span style="font-size:14.0pt">Join Miss Mae and be a dinosaur at a special pajama story time on Wednesday\, Dec. 19 at 6 p.m. We&rsquo\;ll roar and march\, read stories\, make a dino-themed craft and enjoy a snack. </span></span><br />\n&nbsp\;<br />\n<span style="font-family:times new roman\,serif"><span style="font-size:14.0pt">Miss Mae will read &ldquo\;How Do Dinosaurs Learn to Read?&rdquo\; by Jane Yolen and &ldquo\;Edwina\, the Dinosaur Who Didn&#39\;t Know She Was Extinct&rdquo\; by Mo Willems. Then kids can march along to &ldquo\;We are the Dinosaurs&rdquo\; by Laurie Berkner. </span></span><br />\n&nbsp\;<br />\n<span style="font-family:times new roman\,serif"><span style="font-size:14.0pt"><span>Come in your pajamas or your dinosaur best and join in on the fun. For more information contact Mae Corrion\, Youth Services Librarian\, at <span class="gc-cs-link" id="gc-number-0" title="Call with Google Voice">207-288-4245</span> or </span><a href="mailto:mcorrion@jesuplibrary.org">mcorrion@jesuplibrary.org</a></span>. </span>
LOCATION:Jesup Memorial Library\, 34 Mt. Desert St.\, Bar Harbor\, ME 04609
UID:e.3061.4796
SEQUENCE:3
DTSTAMP:20260420T100027Z
URL:https://www.visitbarharbor.com/events/details/dinosaur-pajama-story-time-4796
END:VEVENT

END:VCALENDAR
