BEGIN:VCALENDAR
VERSION:2.0
PRODID:-//ChamberMaster//Event Calendar 2.0//EN
METHOD:PUBLISH
X-PUBLISHED-TTL:P3D
REFRESH-INTERVAL:P3D
CALSCALE:GREGORIAN
BEGIN:VEVENT
DTSTART:20181103T130000Z
DTEND:20181103T200000Z
X-MICROSOFT-CDO-ALLDAYEVENT:FALSE
SUMMARY:Designing Women
DESCRIPTION:Designing Women's annual\, juried Holiday show will feature over twenty local female artisans who will display their high quality and beautifully handcrafted pottery\, fine art\, jewelry\, glasswork\, hand-woven clothing and accessories\, home accents\, and lotions and balms for perusal and purchase. This show is a wonderful way to find small and large treasures\, home and personal accoutrements\, and Holiday gifts. The suggested $2.00 door donation and all lunch/refreshment proceeds will be collected by and directly donated to Heathy Acadia: Building Vibrant Communities.
X-ALT-DESC;FMTTYPE=text/html:Designing Women&rsquo\;s annual\, juried Holiday show will feature over twenty local female artisans who will display their high quality and beautifully handcrafted pottery\, fine art\, jewelry\, glasswork\, hand-woven clothing and accessories\, home accents\, and lotions and balms for perusal and purchase. This show is a wonderful way to find small and large treasures\, home and personal accoutrements\, and Holiday gifts. The suggested $2.00 door donation and all lunch/refreshment proceeds will be collected by and directly donated to Heathy Acadia: Building Vibrant Communities.
LOCATION:Richard Dyke Center for Family Business 64 Kagan Dr. Bangor\, ME 04401
UID:e.3061.3965
SEQUENCE:3
DTSTAMP:20260420T113112Z
URL:https://www.visitbarharbor.com/events/details/designing-women-3965
END:VEVENT

END:VCALENDAR
