BEGIN:VCALENDAR
VERSION:2.0
PRODID:-//ChamberMaster//Event Calendar 2.0//EN
METHOD:PUBLISH
X-PUBLISHED-TTL:P3D
REFRESH-INTERVAL:P3D
CALSCALE:GREGORIAN
BEGIN:VEVENT
DTSTART:20190909T220000Z
DTEND:20190910T003000Z
X-MICROSOFT-CDO-ALLDAYEVENT:FALSE
SUMMARY:Demystifying Oil Painting
DESCRIPTION:with Nicole DiSimone. For those who have never used the medium\, this is your chance to try it out. Nicole will lead you through a demonstration and exercises where they can try out paints. All materials supplied.
X-ALT-DESC;FMTTYPE=text/html:&nbsp\;with Nicole DiSimone. For those who have never used the medium\, this is your chance to try it out. Nicole will lead you through a demonstration and exercises where they can try out paints. All materials supplied.&nbsp\;
LOCATION:ArtWaves\, 1345-A State Highway 102\, Bar Harbor.
UID:e.3061.14683
SEQUENCE:3
DTSTAMP:20260419T173536Z
URL:https://www.visitbarharbor.com/events/details/demystifying-oil-painting-09-09-2019-14683
END:VEVENT

END:VCALENDAR
