BEGIN:VCALENDAR
VERSION:2.0
PRODID:-//ChamberMaster//Event Calendar 2.0//EN
METHOD:PUBLISH
X-PUBLISHED-TTL:P3D
REFRESH-INTERVAL:P3D
CALSCALE:GREGORIAN
BEGIN:VEVENT
DTSTART:20180726T163000Z
DTEND:20180726T193000Z
X-MICROSOFT-CDO-ALLDAYEVENT:FALSE
SUMMARY:Decorative Book Making
DESCRIPTION:Learn how to make lovely soft cover books\, incorporating block printed papers you will design and print in class. Includes all materials. A portion of the class fee is being donated to Summer Festival of the Arts in honor of their 40th anniversary. \n\n\nInstructor: Shira Singer
X-ALT-DESC;FMTTYPE=text/html:<pre>\n<span style="font-family:sans-serif\,arial\,verdana\,trebuchet ms">Learn how to make lovely soft cover books\, incorporating block printed papers you will design and print in class.&nbsp\;Includes all materials. A&nbsp\;portion of the class fee is being donated to Summer Festival of the Arts in honor of their 40th anniversary. </span>\n</pre>\n\n<p>Instructor: Shira Singer</p>\n
LOCATION:ArtWaves 1345a State Highway 102 04609
UID:e.3061.3373
SEQUENCE:3
DTSTAMP:20260420T182338Z
URL:https://www.visitbarharbor.com/events/details/decorative-book-making-3373
END:VEVENT

END:VCALENDAR
