BEGIN:VCALENDAR
VERSION:2.0
PRODID:-//ChamberMaster//Event Calendar 2.0//EN
METHOD:PUBLISH
X-PUBLISHED-TTL:P3D
REFRESH-INTERVAL:P3D
CALSCALE:GREGORIAN
BEGIN:VEVENT
DTSTART:20181007T230000Z
DTEND:20181008T030000Z
X-MICROSOFT-CDO-ALLDAYEVENT:FALSE
SUMMARY:Dawnland
DESCRIPTION:Sunday\, October 7th at 7 p.m. Co-Produced by the Abbe Museum. For decades\, child welfare authorities have been removing Native American children from their homes to save them from being Indian. In Maine\, the first official "truth and reconciliation commission" in the United States begins a historic investigation. DAWNLAND goes behind-the-scenes as this historic body grapples with difficult truths\, redefines reconciliation\, and charts a new course for state and tribal relations. $12 for adults\, $10 for students We are honored to host two speakers - Esther Anne of Maine-Wabanaki REACH and Dawn Neptune Adams\, a participant of the film - at this screening of DAWNLAND.
X-ALT-DESC;FMTTYPE=text/html:Sunday\, October 7th at 7 p.m. Co-Produced by the Abbe Museum. For decades\, child welfare authorities have been removing Native American children from their homes to save them from being Indian. In Maine\, the first official &ldquo\;truth and reconciliation commission&rdquo\; in the United States begins a historic investigation. DAWNLAND goes behind-the-scenes as this historic body grapples with difficult truths\, redefines reconciliation\, and charts a new course for state and tribal relations. $12 for adults\, $10 for students We are honored to host two speakers - Esther Anne of Maine-Wabanaki REACH and Dawn Neptune Adams\, a participant of the film - at this screening of DAWNLAND.
LOCATION:Criterion Theatre
UID:e.3061.3937
SEQUENCE:3
DTSTAMP:20260420T130712Z
URL:https://www.visitbarharbor.com/events/details/dawnland-3937
END:VEVENT

END:VCALENDAR
